Workbook

Sheet Compiled Angling Sales Report
A1: Annual Angling Licence Sales by Type
A3: Residency | B3: Product Type | C3: Licence Type | D3: 10/11 | E3: 11/12 | F3: 12/13 | G3: 13/14 | H3: 14/15 | I3: 15/16 | J3: 16/17 | K3: 17/18 | L3: 18/19 | M3: 19/20 | N3: 20/21 | O3: 21/22 | P3: 22/23 | Q3: 23/24 | R3: 24/25
A4: Resident | B4: Basic Licence | C4: Annual Angling Licence | D4: 199799 | E4: 192825 | F4: 187744 | G4: 193631 | H4: 205903 | I4: 194461 | J4: 200515 | K4: 191361 | L4: 194264 | M4: 194757 | N4: 237539 | O4: 206697 | P4: 192754 | Q4: 189637 | R4: 189472
C5: Annual Angling Licence (Age 65 +) - reduced rate | D5: 42756 | E5: 42938 | F5: 44648 | G5: 46652 | H5: 49624 | I5: 49134 | J5: 52563 | K5: 50533 | L5: 53708 | M5: 55535 | N5: 59249 | O5: 57843 | P5: 59779 | Q5: 60350 | R5: 62368
C6: Annual Angling Licence (Age 65 +) - full price | D6: 0 | E6: 0 | F6: 0 | G6: 0 | H6: 0 | I6: 0 | J6: 0 | K6: 0 | L6: 0 | M6: 0 | N6: 0 | O6: 782 | P6: 258 | Q6: 238 | R6: 197
C7: Annual Licence for Disabled | D7: 8926 | E7: 8970 | F7: 9080 | G7: 9249 | H7: 9682 | I7: 9306 | J7: 9637 | K7: 9143 | L7: 8963 | M7: 9469 | N7: 9628 | O7: 8873 | P7: 8390 | Q7: 8301 | R7: 8475
C8: Eight Day Angling Licence | D8: 11976 | E8: 12088 | F8: 11996 | G8: 10689 | H8: 10831 | I8: 9529 | J8: 9908 | K8: 8566 | L8: 9247 | M8: 9343 | N8: 10043 | O8: 7310 | P8: 8164 | Q8: 8596 | R8: 9946
C9: Family Fishing Weekend Licence | D9: 2 | E9: 7 | F9: 2 | G9: 7 | H9: 2 | I9: 13 | J9: 2 | K9: 4 | L9: 2 | M9: 0 | N9: 6 | O9: 12 | P9: 3 | Q9: 7 | R9: 7
C10: One Day Angling Licence | D10: 17802 | E10: 18415 | F10: 17936 | G10: 18495 | H10: 18982 | I10: 16818 | J10: 15721 | K10: 15453 | L10: 16506 | M10: 15773 | N10: 17968 | O10: 14124 | P10: 15311 | Q10: 18437 | R10: 20041
C11: Total Resident Basic Licences | D11: =SUM(D4:D10) -> 281261 | E11: =SUM(E4:E10) -> 275243 | F11: =SUM(F4:F10) -> 271406 | G11: =SUM(G4:G10) -> 278723 | H11: =SUM(H4:H10) -> 295024 | I11: =SUM(I4:I10) -> 279261 | J11: =SUM(J4:J10) -> 288346 | K11: =SUM(K4:K10) -> 275060 | ... R11: =SUM(R4:R10) -> 290506
B12: Classified Waters | C12: Classified Waters Licence | D12: 17573 | E12: 17124 | F12: 17174 | G12: 18215 | H12: 20380 | I12: 20415 | J12: 21052 | K12: 18557 | L12: 16837 | M12: 18018 | N12: 21074 | O12: 19848 | P12: 20264 | Q12: 21065 | R12: 21535
B13: Conservation Surcharge | C13: Kootenay Lake Rainbow Trout | D13: 3308 | E13: 3925 | F13: 4208 | G13: 4330 | H13: 3817 | I13: 2765 | J13: 2197 | K13: 2108 | L13: 2078 | M13: 2092 | N13: 2867 | O13: 2783 | P13: 2682 | Q13: 2765 | R13: 2599
C14: Non-Tidal Salmon | D14: 72198 | E14: 62892 | F14: 53821 | G14: 60845 | H14: 83692 | I14: 60443 | J14: 55945 | K14: 51143 | L14: 62029 | M14: 45840 | N14: 55187 | O14: 53221 | P14: 57499 | Q14: 58373 | R14: 58057
C15: Shuswap Lake Char | D15: 931 | E15: 992 | F15: 1093 | G15: 1246 | H15: 1247 | I15: 1271 | J15: 1564 | K15: 1576 | L15: 1549 | M15: 1667 | N15: 2150 | O15: 2078 | P15: 2080 | Q15: 1806 | R15: 1802
C16: Shuswap Lake Rainbow Trout | D16: 3124 | E16: 3323 | F16: 3676 | G16: 3784 | H16: 3664 | I16: 3626 | J16: 4455 | K16: 4323 | L16: 3986 | M16: 4108 | N16: 5444 | O16: 4934 | P16: 4690 | Q16: 3983 | R16: 4109
C17: Steelhead | D17: 14841 | E17: 15573 | F17: 17368 | G17: 18033 | H17: 19559 | I17: 18537 | J17: 18363 | K17: 17005 | L17: 16136 | M17: 15996 | N17: 18662 | O17: 16843 | P17: 16798 | Q17: 17145 | R17: 18152
C18: Sturgeon (1 Day) | D18: 2976 | E18: 4455 | F18: 5488 | G18: 6576 | H18: 6578 | I18: 6888 | J18: 6849 | K18: 6882 | L18: 7112 | M18: 6399 | N18: 5951 | O18: 7118 | P18: 6856 | Q18: 7065 | R18: 6399
C19: Sturgeon (8 Day) | D19: 294 | E19: 383 | F19: 527 | G19: 528 | H19: 556 | I19: 519 | J19: 478 | K19: 557 | L19: 714 | M19: 707 | N19: 553 | O19: 695 | P19: 730 | Q19: 762 | R19: 584
C20: Sturgeon (Annual) | D20: 3159 | E20: 3403 | F20: 3451 | G20: 3807 | H20: 4301 | I20: 4546 | J20: 4524 | K20: 4826 | L20: 4842 | M20: 4574 | N20: 4641 | O20: 5127 | P20: 4845 | Q20: 4558 | R20: 4402
C21: Total Resident Conservation Surcharges | D21: =SUM(D13:D20) -> 100831 | E21: =SUM(E13:E20) -> 94946 | F21: =SUM(F13:F20) -> 89632 | G21: =SUM(G13:G20) -> 99149 | H21: =SUM(H13:H20) -> 123414 | I21: =SUM(I13:I20) -> 98595 | J21: =SUM(J13:J20) -> 94375 | K21: =SUM(K13:K20) -> 88420 | ... R21: =SUM(R13:R20) -> 96104
B22: All Types | C22: Total Resident Transactions | D22: =SUM(D21,D12,D11) -> 399665 | E22: =SUM(E21,E12,E11) -> 387313 | F22: =SUM(F21,F12,F11) -> 378212 | G22: =SUM(G21,G12,G11) -> 396087 | H22: =SUM(H21,H12,H11) -> 438818 | I22: =SUM(I21,I12,I11) -> 398271 | J22: =SUM(J21,J12,J11) -> 403773 | K22: =SUM(K21,K12,K11) -> 382037 | ... R22: =SUM(R21,R12,R11) -> 408145
A23: Non-Resident | B23: Basic Licence | C23: Annual Angling Licence | D23: 21288 | E23: 21135 | F23: 21148 | G23: 22558 | H23: 24665 | I23: 25611 | J23: 27742 | K23: 26036 | L23: 25713 | M23: 26638 | N23: 22829 | O23: 21872 | P23: 25568 | Q23: 25469 | R23: 24849
C24: Eight Day Angling Licence | D24: 25467 | E24: 25950 | F24: 26102 | G24: 27771 | H24: 29257 | I24: 29645 | J24: 30618 | K24: 28287 | L24: 28621 | M24: 28846 | N24: 15731 | O24: 15064 | P24: 22170 | Q24: 23986 | R24: 24081
C25: Family Fishing Weekend Licence | D25: 0 | E25: 0 | F25: 1 | G25: 9 | H25: 0 | I25: 0 | J25: 2 | K25: 4 | L25: 3 | M25: 1 | N25: 0 | O25: 7 | P25: 1 | Q25: 4 | R25: 1
C26: One Day Angling Licence | D26: 13840 | E26: 14693 | F26: 14367 | G26: 14852 | H26: 16103 | I26: 16669 | J26: 18043 | K26: 18185 | L26: 18888 | M26: 18692 | N26: 7740 | O26: 9097 | P26: 14535 | Q26: 23986 | R26: 18132
C27: Total Non-Resident Basic Licences | D27: =SUM(D23:D26) -> 60595 | E27: =SUM(E23:E26) -> 61778 | F27: =SUM(F23:F26) -> 61618 | G27: =SUM(G23:G26) -> 65190 | H27: =SUM(H23:H26) -> 70025 | I27: =SUM(I23:I26) -> 71925 | J27: =SUM(J23:J26) -> 76405 | K27: =SUM(K23:K26) -> 72512 | ... R27: =SUM(R23:R26) -> 67063
B28: Classified Waters Days | C28: Ahnuhati - Class II (Apr 1 - Jun 30) | D28: 0 | E28: 0 | F28: 2 | G28: 0 | H28: 0 | I28: 3 | J28: 4 | K28: 15 | L28: 0 | M28: 5 | N28: 0 | O28: 6 | P28: 18 | Q28: 10 | R28: 2
C29: Ahnuhati - Class II (Jul 1 - Oct 31) | D29: 16 | E29: 72 | F29: 95 | G29: 120 | H29: 177 | I29: 138 | J29: 205 | K29: 132 | L29: 221 | M29: 101 | N29: 11 | O29: 153 | P29: 167 | Q29: 166 | R29: 76
C30: Babine - Class I (Sep 1 - Oct 31) | D30: 1595 | E30: 1899 | F30: 1803 | G30: 1885 | H30: 1840 | I30: 2039 | J30: 2133 | K30: 2188 | L30: 2110 | M30: 2053 | N30: 338 | O30: 1112 | P30: 1826 | Q30: 1726 | R30: 1967
C31: Bella Coola/Atnarko - Class II (Apr 1 - May 31) | D31: 0 | E31: 0 | F31: 0 | G31: 0 | H31: 0 | I31: 0 | J31: 0 | K31: 0 | L31: 0 | M31: 0 | N31: 0 | O31: 0 | P31: 5 | Q31: 2 | R31: 0
C32: Bella Coola/Atnarko - Class II (Mar 1 - Mar 31) | D32: 0 | E32: 0 | F32: 0 | G32: 0 | H32: 0 | I32: 0 | J32: 0 | K32: 0 | L32: 0 | M32: 0 | N32: 0 | O32: 1 | P32: 0 | Q32: 0 | R32: 0
C33: Bulkley - Class II (Sep 1 - Oct 31) | D33: 3972 | E33: 3638 | F33: 4013 | G33: 4057 | H33: 4553 | I33: 4637 | J33: 5421 | K33: 4226 | L33: 4987 | M33: 4251 | N33: 836 | O33: 1400 | P33: 2895 | Q33: 2683 | R33: 3347
C34: Bull - Class II (Apr 1 - Mar 31) | D34: 548 | E34: 466 | F34: 443 | G34: 614 | H34: 781 | I34: 990 | J34: 1108 | K34: 993 | L34: 1146 | M34: 1013 | N34: 628 | O34: 693 | P34: 1076 | Q34: 1321 | R34: 1177
C35: Chilko - Class II (Jun 11 - Oct 31) | D35: 204 | E35: 248 | F35: 263 | G35: 305 | H35: 435 | I35: 545 | J35: 627 | K35: 490 | L35: 598 | M35: 450 | N35: 10 | O35: 59 | P35: 471 | Q35: 343 | R35: 456
C36: Chuckwalla/Kilbella - Class II (Apr 1 - May 31) | D36: 4 | E36: 8 | F36: 6 | G36: 14 | H36: 0 | I36: 1 | J36: 6 | K36: 4 | L36: 8 | M36: 8 | N36: 0 | O36: 0 | P36: 12 | Q36: 24 | R36: 14
C37: Damdochax - Class II (Sep 1 - Oct 31) | D37: 11 | E37: 174 | F37: 216 | G37: 206 | H37: 228 | I37: 197 | J37: 216 | K37: 176 | L37: 147 | M37: 101 | N37: 4 | O37: 80 | P37: 64 | Q37: 115 | R37: 184
C38: Dean - Class 1 Upper - Draw (Jun - Sep) | D38: 0 | E38: 0 | F38: 0 | G38: 0 | H38: 0 | I38: 0 | J38: 0 | K38: 0 | L38: 0 | M38: 0 | N38: 0 | O38: 276 | P38: 375 | Q38: 354 | R38: 464
C39: Dean - Class I Crag (Jun 1 - Sep 30) | D39: 3 | E39: 21 | F39: 6 | G39: 8 | H39: 0 | I39: 0 | J39: 7 | K39: 20 | L39: 7 | M39: 7 | N39: 0 | O39: 18 | P39: 0 | Q39: 0 | R39: 1
C40: Dean - Class I Kalone (Jun 1 - Sep 30) | D40: 48 | E40: 50 | F40: 41 | G40: 61 | H40: 62 | I40: 50 | J40: 104 | K40: 65 | L40: 140 | M40: 114 | N40: 45 | O40: 68 | P40: 126 | Q40: 94 | R40: 120
... C101: Zymoetz - Class ll Below (July 24 - March 31) | D101: 0 | E101: 0 | F101: 0 | G101: 967 | H101: 964 | I101: 1302 | J101: 1362 | K101: 919 | L101: 1341 | M101: 1036 | N101: 340 | O101: 275 | P101: 588 | Q101: 481 | R101: 511
C102: Total Non-Resident Classified Waters Days | D102: =SUM(D28:D101) -> 29557 | E102: =SUM(E28:E101) -> 29782 | F102: =SUM(F28:F101) -> 29838 | G102: =SUM(G28:G101) -> 32920 | H102: =SUM(H28:H101) -> 34526 | I102: =SUM(I28:I101) -> 37142 | J102: =SUM(J28:J101) -> 39837 | K102: =SUM(K28:K101) -> 36095 | ... R102: =SUM(R28:R101) -> 33013
B103: Conservation Surcharge | C103: Kootenay Lake Rainbow Trout | D103: 1004 | E103: 1224 | F103: 1426 | G103: 1355 | H103: 1127 | I103: 746 | J103: 510 | K103: 495 | L103: 423 | M103: 461 | N103: 427 | O103: 361 | P103: 423 | Q103: 434 | R103: 446
C104: Non-Tidal Salmon | D104: 8464 | E104: 8190 | F104: 6923 | G104: 7334 | H104: 10964 | I104: 8177 | J104: 7369 | K104: 6776 | L104: 7116 | M104: 5852 | N104: 3569 | O104: 4300 | P104: 6017 | Q104: 6541 | R104: 6410
C105: Shuswap Lake Char | D105: 290 | E105: 336 | F105: 338 | G105: 426 | H105: 418 | I105: 482 | J105: 531 | K105: 517 | L105: 532 | M105: 480 | N105: 494 | O105: 401 | P105: 417 | Q105: 316 | R105: 325
C106: Shuswap Lake Rainbow Trout | D106: 653 | E106: 750 | F106: 775 | G106: 872 | H106: 857 | I106: 930 | J106: 1054 | K106: 1032 | L106: 1014 | M106: 938 | N106: 972 | O106: 715 | P106: 764 | Q106: 591 | R106: 627
C107: Steelhead | D107: 2954 | E107: 3194 | F107: 3556 | G107: 3796 | H107: 4033 | I107: 4298 | J107: 4619 | K107: 4380 | L107: 4643 | M107: 4455 | N107: 1012 | O107: 1937 | P107: 3394 | Q107: 3327 | R107: 3657
C108: Sturgeon (1 Day) | D108: 1089 | E108: 2029 | F108: 2016 | G108: 2085 | H108: 2389 | I108: 2755 | J108: 3033 | K108: 3305 | L108: 3388 | M108: 3359 | N108: 1250 | O108: 2259 | P108: 3585 | Q108: 3785 | R108: 3535
C109: Sturgeon (8 Day) | D109: 935 | E109: 1700 | F109: 1467 | G109: 1738 | H109: 2015 | I109: 2076 | J109: 1933 | K109: 2392 | L109: 2469 | M109: 2468 | N109: 899 | O109: 1456 | P109: 2029 | Q109: 2092 | R109: 2005
C110: Sturgeon (Annual) | D110: 100 | E110: 160 | F110: 184 | G110: 144 | H110: 191 | I110: 155 | J110: 184 | K110: 210 | L110: 183 | M110: 193 | N110: 132 | O110: 236 | P110: 292 | Q110: 228 | R110: 164
C111: Total Non-Resident Conservation Surcharges | D111: =SUM(D103:D110) -> 15489 | E111: =SUM(E103:E110) -> 17583 | F111: =SUM(F103:F110) -> 16685 | G111: =SUM(G103:G110) -> 17750 | H111: =SUM(H103:H110) -> 21994 | I111: =SUM(I103:I110) -> 19619 | J111: =SUM(J103:J110) -> 19233 | K111: =SUM(K103:K110) -> 19107 | ... R111: =SUM(R103:R110) -> 17169
B112: All Types | C112: Total Non-Resident Transactions | D112: =SUM(D111,D102,D27) -> 105641 | E112: =SUM(E111,E102,E27) -> 109143 | F112: =SUM(F111,F102,F27) -> 108141 | G112: =SUM(G111,G102,G27) -> 115860 | H112: =SUM(H111,H102,H27) -> 126545 | I112: =SUM(I111,I102,I27) -> 128686 | J112: =SUM(J111,J102,J27) -> 135475 | K112: =SUM(K111,K102,K27) -> 127714 | ... R112: =SUM(R111,R102,R27) -> 117245
A113: ALL | B113: All Types | C113: Total Transactions | D113: =SUM(D112,D22) -> 505306 | E113: =SUM(E112,E22) -> 496456 | F113: =SUM(F112,F22) -> 486353 | G113: =SUM(G112,G22) -> 511947 | H113: =SUM(H112,H22) -> 565363 | I113: =SUM(I112,I22) -> 526957 | J113: =SUM(J112,J22) -> 539248 | K113: =SUM(K112,K22) -> 509751 | ... R113: =SUM(R112,R22) -> 525390

Sheet Angling Licence Sales Revenue
A1: Annual Angling Licence Revenue by Type
A3: Residency | B3: Product Type | C3: Licence Type | D3: 10/11 | E3: 11/12 | F3: 12/13 | G3: 13/14 | H3: 14/15 | I3: 15/16 | J3: 16/17 | K3: 17/18 | L3: 18/19 | M3: 19/20 | N3: 20/21 | O3: 21/22 | P3: 22/23 | Q3: 23/24 (YTD to Febuary 29, 2024)
A4: Resident | B4: Basic Licence | C4: Annual Angling Licence | D4: 199799 | E4: 192825 | F4: 187744 | G4: 193631 | H4: 205903 | I4: 194461 | J4: 200515 | K4: =191361*36 -> 6888996 | L4: =194264*36 -> 6993504 | M4: =194757*36 -> 7011252 | N4: =237539*36 -> 8551404 | O4: =206697*36 -> 7441092 | P4: =192754*36 -> 6939144 | Q4: =189456*39.56 -> 7494879.4
C5: Annual Angling Licence (Age 65 +) - reduced rate | D5: 42756 | E5: 42938 | F5: 44648 | G5: 46652 | H5: 49624 | I5: 49134 | J5: 52563 | K5: =50533*5 -> 252665 | L5: =53708*5 -> 268540 | M5: =55535*5 -> 277675 | N5: =59249*5 -> 296245 | O5: =57843*5 -> 289215 | P5: =59779*5 -> 298895 | Q5: =60207*5.5 -> 331138.5
C6: Annual Angling Licence (Age 65 +) - full price | D6: 0 | E6: 0 | F6: 0 | G6: 0 | H6: 0 | I6: 0 | J6: 0 | K6: 0 | L6: 0 | M6: 0 | N6: 0 | O6: =782*36 -> 28152 | P6: =258*36 -> 9288 | Q6: =236*39.56 -> 9336.16
C7: Annual Licence for Disabled | D7: 8926 | E7: 8970 | F7: 9080 | G7: 9249 | H7: 9682 | I7: 9306 | J7: 9637 | K7: =9143*1 -> 9143 | L7: 8963 | M7: 9469 | N7: 9628 | O7: 8873 | P7: =8390 -> 8390 | Q7: =8267*1.1 -> 9093.7
C8: Eight Day Angling Licence | D8: 11976 | E8: 12088 | F8: 11996 | G8: 10689 | H8: 10831 | I8: 9529 | J8: 9908 | K8: =8566*20 -> 171320 | L8: =9247*20 -> 184940 | M8: =9343*20 -> 186860 | N8: =10043*20 -> 200860 | O8: =7310*20 -> 146200 | P8: =8164*20 -> 163280 | Q8: =8194*21.98 -> 180104.12
C9: Family Fishing Weekend Licence | D9: 2 | E9: 7 | F9: 2 | G9: 7 | H9: 2 | I9: 13 | J9: 2 | K9: 0 | L9: 0 | M9: 0 | N9: 0 | O9: 0 | P9: 0 | Q9: 0
C10: One Day Angling Licence | D10: 17802 | E10: 18415 | F10: 17936 | G10: 18495 | H10: 18982 | I10: 16818 | J10: 15721 | K10: =15453*10 -> 154530 | L10: =16506*10 -> 165060 | M10: =15773*10 -> 157730 | N10: =17968*10 -> 179680 | O10: =14124*10 -> 141240 | P10: =15311*10 -> 153110 | Q10: =16681*10.99 -> 183324.19
C11: Total Resident Basic Licence Revenue | D11: =SUM(D4:D10) -> 281261 | E11: =SUM(E4:E10) -> 275243 | F11: =SUM(F4:F10) -> 271406 | G11: =SUM(G4:G10) -> 278723 | H11: =SUM(H4:H10) -> 295024 | I11: =SUM(I4:I10) -> 279261 | J11: =SUM(J4:J10) -> 288346 | K11: =SUM(K4:K10) -> 7476654 | ... Q11: =SUM(Q4:Q10) -> 8207876
B12: Classified Waters | C12: Classified Waters Licence | D12: 17573 | E12: 17124 | F12: 17174 | G12: 18215 | H12: 20380 | I12: 20415 | J12: 21052 | K12: =18557*15 -> 278355 | L12: =16837*15 -> 252555 | M12: =18018*15 -> 270270 | N12: =21074*15 -> 316110 | O12: =19848*15 -> 297720 | P12: =20264*15 -> 303960 | Q12: =21009*16.49 -> 346438.41
B13: Conservation Surcharge | C13: Kootenay Lake Rainbow Trout | D13: 3308 | E13: 3925 | F13: 4208 | G13: 4330 | H13: 3817 | I13: 2765 | J13: 2197 | K13: =2108*10 -> 21080 | L13: =2078*10 -> 20780 | M13: =2092*10 -> 20920 | N13: =2867*10 -> 28670 | O13: =2783*10 -> 27830 | P13: =2682*10 -> 26820 | Q13: =2754*10.99 -> 30266.46
C14: Non-Tidal Salmon | D14: 72198 | E14: 62892 | F14: 53821 | G14: 60845 | H14: 83692 | I14: 60443 | J14: 55945 | K14: =51143*15 -> 767145 | L14: =62029*15 -> 930435 | M14: =45840*15 -> 687600 | N14: =55187*15 -> 827805 | O14: =53221*15 -> 798315 | P14: =57499*15 -> 862485 | Q14: =58351*16.49 -> 962207.99
C15: Shuswap Lake Char | D15: 931 | E15: 992 | F15: 1093 | G15: 1246 | H15: 1247 | I15: 1271 | J15: 1564 | K15: =1576*10 -> 15760 | L15: =1549*10 -> 15490 | M15: =1667*10 -> 16670 | N15: =2150*10 -> 21500 | O15: =2078*10 -> 20780 | P15: =2080*10 -> 20800 | Q15: =1801*10.99 -> 19792.99
C16: Shuswap Lake Rainbow Trout | D16: 3124 | E16: 3323 | F16: 3676 | G16: 3784 | H16: 3664 | I16: 3626 | J16: 4455 | K16: =4323*10 -> 43230 | L16: =3986*10 -> 39860 | M16: =4108*10 -> 41080 | N16: =5444*10 -> 54440 | O16: =4934*10 -> 49340 | P16: =4690*10 -> 46900 | Q16: =3971*10.99 -> 43641.29
C17: Steelhead | D17: 14841 | E17: 15573 | F17: 17368 | G17: 18033 | H17: 19559 | I17: 18537 | J17: 18363 | K17: =17005*25 -> 425125 | L17: =16136*25 -> 403400 | M17: =15996*25 -> 399900 | N17: =18662*25 -> 466550 | O17: =16843*25 -> 421075 | P17: =16798*25 -> 419950 | Q17: =16814*27.48 -> 462048.72
C18: Sturgeon (1 Day) | D18: 2976 | E18: 4455 | F18: 5488 | G18: 6576 | H18: 6578 | I18: 6888 | J18: 6849 | K18: =6882*8 -> 55056 | L18: =7112*8 -> 56896 | M18: =6399*8 -> 51192 | N18: =5951*8 -> 47608 | O18: =7118*8 -> 56944 | P18: =6856*8 -> 54848 | Q18: =6760*8.79 -> 59420.4
C19: Sturgeon (8 Day) | D19: 294 | E19: 383 | F19: 527 | G19: 528 | H19: 556 | I19: 519 | J19: 478 | K19: =557*15 -> 8355 | L19: =714*15 -> 10710 | M19: =707*15 -> 10605 | N19: =553*15 -> 8295 | O19: =695*15 -> 10425 | P19: =730*15 -> 10950 | Q19: =736*16.49 -> 12136.64
C20: Sturgeon (Annual) | D20: 3159 | E20: 3403 | F20: 3451 | G20: 3807 | H20: 4301 | I20: 4546 | J20: 4524 | K20: =4826*25 -> 120650 | L20: =4842*25 -> 121050 | M20: =4574*25 -> 114350 | N20: =4641*25 -> 116025 | O20: =5127*25 -> 128175 | P20: =4845*25 -> 121125 | Q20: =4556*27.48 -> 125198.88
C21: Total Resident Conservation Surcharges | D21: =SUM(D13:D20) -> 100831 | E21: =SUM(E13:E20) -> 94946 | F21: =SUM(F13:F20) -> 89632 | G21: =SUM(G13:G20) -> 99149 | H21: =SUM(H13:H20) -> 123414 | I21: =SUM(I13:I20) -> 98595 | J21: =SUM(J13:J20) -> 94375 | K21: =SUM(K13:K20) -> 1456401 | ... Q21: =SUM(Q13:Q20) -> 1714713.4
B22: All Types | C22: Total Resident Revenue | D22: =SUM(D21,D12,D11) -> 399665 | E22: =SUM(E21,E12,E11) -> 387313 | F22: =SUM(F21,F12,F11) -> 378212 | G22: =SUM(G21,G12,G11) -> 396087 | H22: =SUM(H21,H12,H11) -> 438818 | I22: =SUM(I21,I12,I11) -> 398271 | J22: =SUM(J21,J12,J11) -> 403773 | K22: =SUM(K21,K12,K11) -> 9211410 | ... Q22: =SUM(Q21,Q12,Q11) -> 10269028
A23: Non-Resident | B23: Basic Licence | C23: Annual Angling Licence - Non-Resident | D23: 21288 | E23: 21135 | F23: 21148 | G23: 22558 | H23: 24665 | I23: 25611 | J23: 27742 | K23: =19795*55 -> 1088725 | L23: =19176*55 -> 1054680 | M23: =20142*55 -> 1107810 | N23: =55*21630 -> 1189650 | O23: =55*20084 -> 1104620 | P23: =55*20884 -> 1148620 | Q23: =20174*60.44 -> 1219316.6
C24: Annual Angling Licence - Non-Resident Alien | K24: =6241*80 -> 499280 | L24: =6537*80 -> 522960 | M24: =6496*80 -> 519680 | N24: =80*1199 -> 95920 | O24: =80*1788 -> 143040 | P24: =80*4672 -> 373760 | Q24: =5232*87.92 -> 459997.44
C25: Eight Day Angling Licence - Non-Resident | D25: 25467 | E25: 25950 | F25: 26102 | G25: 27771 | H25: 29257 | I25: 29645 | J25: 30618 | K25: =17230*36 -> 620280 | L25: =17022*36 -> 612792 | M25: =17280*36 -> 622080 | N25: =36*10043 -> 361548 | O25: =36*12780 -> 460080 | P25: =36*14502 -> 522072 | Q25: =14617*39.56 -> 578248.52
C26: Eight Day Angling Licence - Non-Resident Alien | K26: =11057*50 -> 552850 | L26: =11599*50 -> 579950 | M26: =11566*50 -> 578300 | N26: =50*243 -> 12150 | O26: =50*2284 -> 114200 | P26: =50*7665 -> 383250 | Q26: =9136*54.96 -> 502114.56
C27: Family Fishing Weekend Licence | D27: 0 | E27: 0 | F27: 1 | G27: 9 | H27: 0 | I27: 0 | J27: 2 | K27: 0 | L27: 0 | M27: 0 | N27: 0 | O27: 0 | P27: 0 | Q27: 0
C28: One Day Angling Licence | D28: 13840 | E28: 14693 | F28: 14367 | G28: 14852 | H28: 16103 | I28: 16669 | J28: 18043 | K28: =18185*20 -> 363700 | L28: =18888*20 -> 377760 | M28: =18692*20 -> 373840 | N28: =20*7740 -> 154800 | O28: =20*9097 -> 181940 | P28: =20*14537 -> 290740 | Q28: =16767*21.98 -> 368538.66
C29: Total Non-Resident Basic Licences | D29: =SUM(D23:D28) -> 60595 | E29: =SUM(E23:E28) -> 61778 | F29: =SUM(F23:F28) -> 61618 | G29: =SUM(G23:G28) -> 65190 | H29: =SUM(H23:H28) -> 70025 | I29: =SUM(I23:I28) -> 71925 | J29: =SUM(J23:J28) -> 76405 | K29: =SUM(K23:K28) -> 3124835 | ... Q29: =SUM(Q23:Q28) -> 3128215.7
B30: Classified Waters Days | C30: Ahnuhati - Class II (Apr 1 - Jun 30) | D30: 0 | E30: 0 | F30: 2 | G30: 0 | H30: 0 | I30: 3 | J30: 4 | K30: =15*20 -> 300 | L30: =0*20 -> 0 | M30: =5*20 -> 100 | N30: 0 | O30: =20*6 -> 120 | P30: =20*18 -> 360 | Q30: =21.98*10 -> 219.8
C31: Ahnuhati - Class II (Jul 1 - Oct 31) | D31: 16 | E31: 72 | F31: 95 | G31: 120 | H31: 177 | I31: 138 | J31: 205 | K31: =132*20 -> 2640 | L31: =221*20 -> 4420 | M31: =101*20 -> 2020 | N31: =20*11 -> 220 | O31: =20*153 -> 3060 | P31: =20*167 -> 3340 | Q31: =21.98*166 -> 3648.68
C32: Babine - Class I (Sep 1 - Oct 31) | D32: 1595 | E32: 1899 | F32: 1803 | G32: 1885 | H32: 1840 | I32: 2039 | J32: 2133 | K32: =2188*40 -> 87520 | L32: =2110*40 -> 84400 | M32: =2053*40 -> 82120 | N32: =40*338 -> 13520 | O32: =40*1112 -> 44480 | P32: =40*1826 -> 73040 | Q32: =43.96*1726 -> 75874.96
C33: Bella Coola/Atnarko - Class II (Apr 1 - May 31) | D33: 0 | E33: 0 | F33: 0 | G33: 0 | H33: 0 | I33: 0 | J33: 0 | K33: 0 | L33: 0 | M33: 0 | N33: 0 | O33: 0 | P33: =20*5 -> 100 | Q33: =21.98*2 -> 43.96
C34: Bella Coola/Atnarko - Class II (Mar 1 - Mar 31) | D34: 0 | E34: 0 | F34: 0 | G34: 0 | H34: 0 | I34: 0 | J34: 0 | K34: 0 | L34: 0 | M34: 0 | N34: 0 | O34: =20*1 -> 20 | P34: 0 | Q34: 0
C35: Bulkley - Class II (Sep 1 - Oct 31) | D35: 3972 | E35: 3638 | F35: 4013 | G35: 4057 | H35: 4553 | I35: 4637 | J35: 5421 | K35: =4226*20 -> 84520 | L35: =4987*20 -> 99740 | M35: =4251*20 -> 85020 | N35: =20*836 -> 16720 | O35: =20*1400 -> 28000 | P35: =20*2895 -> 57900 | Q35: =21.98*2683 -> 58972.34
C36: Bull - Class II (Apr 1 - Mar 31) | D36: 548 | E36: 466 | F36: 443 | G36: 614 | H36: 781 | I36: 990 | J36: 1108 | K36: =993*20 -> 19860 | L36: =1146*20 -> 22920 | M36: =1013*20 -> 20260 | N36: =20*628 -> 12560 | O36: =20*693 -> 13860 | P36: =20*1076 -> 21520 | Q36: =21.98*1320 -> 29013.6
C37: Chilko - Class II (Jun 11 - Oct 31) | D37: 204 | E37: 248 | F37: 263 | G37: 305 | H37: 435 | I37: 545 | J37: 627 | K37: =490*20 -> 9800 | L37: =598*20 -> 11960 | M37: =450*20 -> 9000 | N37: =20*10 -> 200 | O37: =20*59 -> 1180 | P37: =20*471 -> 9420 | Q37: =21.98*343 -> 7539.14
C38: Chuckwalla/Kilbella - Class II (Apr 1 - May 31) | D38: 4 | E38: 8 | F38: 6 | G38: 14 | H38: 0 | I38: 1 | J38: 6 | K38: =4*20 -> 80 | L38: =8*20 -> 160 | M38: =8*20 -> 160 | N38: 0 | O38: 0 | P38: =20*12 -> 240 | Q38: =21.98*24 -> 527.52
C39: Damdochax - Class II (Sep 1 - Oct 31) | D39: 11 | E39: 174 | F39: 216 | G39: 206 | H39: 228 | I39: 197 | J39: 216 | K39: =176*20 -> 3520 | L39: =147*20 -> 2940 | M39: =101*20 -> 2020 | N39: =20*4 -> 80 | O39: =20*80 -> 1600 | P39: =20*64 -> 1280 | Q39: =21.98*115 -> 2527.7
C40: Dean - Class 1 Upper - Draw (Jun - Sep) | D40: 0 | E40: 0 | F40: 0 | G40: 0 | H40: 0 | I40: 0 | J40: 0 | K40: 0 | L40: 0 | M40: 0 | N40: 0 | O40: =40*276 -> 11040 | P40: =40*375 -> 15000 | Q40: =43.96*354 -> 15561.84
C41: Dean - Class I Crag (Jun 1 - Sep 30) | D41: 3 | E41: 21 | F41: 6 | G41: 8 | H41: 0 | I41: 0 | J41: 7 | K41: =20*40 -> 800 | L41: =7*40 -> 280 | M41: =7*40 -> 280 | N41: 0 | O41: =40*18 -> 720 | P41: 0 | Q41: 0
C42: Dean - Class I Kalone (Jun 1 - Sep 30) | D42: 48 | E42: 50 | F42: 41 | G42: 61 | H42: 62 | I42: 50 | J42: 104 | K42: =65*40 -> 2600 | L42: =140*40 -> 5600 | M42: =40*114 -> 4560 | N42: =40*45 -> 1800 | O42: =40*68 -> 2720 | P42: =40*126 -> 5040 | Q42: =43.96*94 -> 4132.24
C43: Dean - Class I Lower (Jun 1 - Sep 30) | D43: 1059 | E43: 1597 | F43: 1854 | G43: 1987 | H43: 1751 | I43: 1806 | J43: 1897 | K43: =1879*40 -> 75160 | L43: =2025*40 -> 81000 | M43: =40*2077 -> 83080 | N43: 0 | O43: =40*824 -> 32960 | P43: =40*1937 -> 77480 | Q43: =43.96*1901 -> 83567.96
C44: Dean - Class I Lower (Jun 1 - Sep 30)C | D44: 106 | E44: 90 | F44: 105 | G44: 105 | H44: 68 | I44: 76 | J44: 99 | K44: =88*40 -> 3520 | L44: =98*40 -> 3920 | M44: =40*61 -> 2440 | N44: =40*50 -> 2000 | O44: =40*63 -> 2520 | P44: =40*79 -> 3160 | Q44: =43.96*81 -> 3560.76
C45: Dean - Class I Guided & Unguided (Jun - Sep) | D45: 0 | E45: 0 | F45: 0 | G45: 0 | H45: 0 | I45: 0 | J45: 0 | K45: 0 | L45: 0 | M45: 0 | N45: 0 | O45: 0 | P45: =40*329 -> 13160 | Q45: =43.96*280 -> 12308.8
C46: Dean - Class II Anahim (Jun 16 - Oct 31) | D46: 48 | E46: 51 | F46: 30 | G46: 15 | H46: 42 | I46: 32 | J46: 46 | K46: =23*20 -> 460 | L46: =8*20 -> 160 | M46: =20*24 -> 480 | N46: 0 | O46: =20*14 -> 280 | P46: =20*24 -> 480 | Q46: =21.98*36 -> 791.28
C47: Dean - Class II Anahim (Jun 16 - Oct 31)C | D47: 0 | E47: 3 | F47: 6 | G47: 2 | H47: 7 | I47: 3 | J47: 3 | K47: =3*20 -> 60 | L47: 0 | M47: =20*1 -> 20 | N47: =20*2 -> 40 | O47: =20*6 -> 120 | P47: 0 | Q47: =21.98*2 -> 43.96
C48: Ecstall - Class II (Apr 1 - Mar 31) | D48: 60 | E48: 95 | F48: 76 | G48: 46 | H48: 151 | I48: 115 | J48: 142 | K48: =27*20 -> 540 | L48: =24*20 -> 480 | M48: =20*11 -> 220 | N48: =20*18 -> 360 | O48: =20*17 -> 340 | P48: =20*25 -> 500 | Q48: =21.98*12 -> 263.76
C49: Elk - Class II (Apr 1 - Mar 31) | D49: 7950 | E49: 7822 | F49: 7677 | G49: 7154 | H49: 7625 | I49: 8664 | J49: 8659 | K49: =8702*20 -> 174040 | L49: =8866*20 -> 177320 | M49: =20*8547 -> 170940 | N49: =20*4195 -> 83900 | O49: =20*4885 -> 97700 | P49: =20*7101 -> 142020 | Q49: =21.98*9089 -> 199776.22
C50: Gitnadoix - Class I (Apr 1 - May 31) | D50: 4 | E50: 1 | F50: 1 | G50: 13 | H50: 21 | I50: 12 | J50: 25 | K50: =9*40 -> 360 | L50: =1*40 -> 40 | M50: =40*2 -> 80 | N50: 0 | O50: =40*5 -> 200 | P50: =40*7 -> 280 | Q50: =43.96*16 -> 703.36
C51: Gitnadoix - Class I (Jun 1 - Mar 31) | D51: 27 | E51: 25 | F51: 24 | G51: 34 | H51: 35 | I51: 30 | J51: 32 | K51: =9*40 -> 360 | L51: =6*40 -> 240 | M51: =40*2 -> 80 | N51: =40*10 -> 400 | O51: =40*4 -> 160 | P51: =40*16 -> 640 | Q51: =43.96*17 -> 747.32
C52: Horsefly - Class II (Jun 1 - Oct 31) | D52: 86 | E52: 132 | F52: 155 | G52: 132 | H52: 115 | I52: 39 | J52: 119 | K52: =72*20 -> 1440 | L52: =184*20 -> 3680 | M52: =20*170 -> 3400 | N52: =20*34 -> 680 | O52: =20*119 -> 2380 | P52: =20*114 -> 2280 | Q52: =21.98*206 -> 4527.88
C53: Kakweiken - Class II (Apr 1 - Jun 30) | D53: 0 | E53: 0 | F53: 6 | G53: 0 | H53: 1 | I53: 0 | J53: 36 | K53: =12*20 -> 240 | L53: =6*20 -> 120 | M53: =20*18 -> 360 | N53: 0 | O53: 0 | P53: =20*24 -> 480 | Q53: =21.98*16 -> 351.68
C54: Kakweiken - Class II (Jul 1 - Oct 31) | D54: 0 | E54: 62 | F54: 110 | G54: 226 | H54: 167 | I54: 217 | J54: 257 | K54: =256*20 -> 5120 | L54: =263*20 -> 5260 | M54: =20*206 -> 4120 | N54: =20*36 -> 720 | O54: =20*163 -> 3260 | P54: =20*187 -> 3740 | Q54: =21.98*176 -> 3868.48
C55: Kingcome - Class II (Apr 1 - Jun 30) | D55: 0 | E55: 0 | F55: 0 | G55: 0 | H55: 4 | I55: 0 | J55: 1 | K55: 0 | L55: 0 | M55: =20*3 -> 60 | N55: 0 | O55: 0 | P55: 0 | Q55: =21.98*8 -> 175.84
C56: Kingcome - Class II (Jul 1 - Oct 31) | D56: 1 | E56: 37 | F56: 102 | G56: 57 | H56: 146 | I56: 70 | J56: 16 | K56: =51*20 -> 1020 | L56: =49*20 -> 980 | M56: =30*20 -> 600 | N56: =20*1 -> 20 | O56: =20*6 -> 120 | P56: =20*1 -> 20 | Q56: =21.98*88 -> 1934.24
C57: Kispiox - Class II (Sep 1 - Oct 31) | D57: 2086 | E57: 2287 | F57: 1721 | G57: 1826 | H57: 1748 | I57: 2083 | J57: 2001 | K57: =1835*20 -> 36700 | L57: =1037*20 -> 20740 | M57: =20*1732 -> 34640 | N57: =20*154 -> 3080 | O57: =20*676 -> 13520 | P57: =20*1227 -> 24540 | Q57: =21.98*1175 -> 25826.5
C58: Kitseguecla - Class II (Apr 1 - Aug 31) | D58: 0 | E58: 0 | F58: 1 | G58: 0 | H58: 0 | I58: 2 | J58: 1 | K58: 0 | L58: 0 | M58: =2*3 -> 6 | N58: 0 | O58: 0 | P58: 0 | Q58: =21.98*4 -> 87.92
C59: Kitseguecla - Class II (Nov 1 - Mar 31) | D59: 0 | E59: 1 | F59: 0 | G59: 1 | H59: 1 | I59: 0 | J59: 1 | K59: 0 | L59: 0 | M59: 0 | N59: 0 | O59: 0 | P59: 0 | Q59: 0
C60: Kitseguecla - Class II (Sep 1 - Oct 31) | D60: 5 | E60: 10 | F60: 8 | G60: 13 | H60: 6 | I60: 9 | J60: 15 | K60: =13*20 -> 260 | L60: =7*20 -> 140 | M60: 0 | N60: =20*1 -> 20 | O60: =20*1 -> 20 | P60: =20*2 -> 40 | Q60: 0
C61: Kitsumkalum - Class II (Apr 1 - May 31) | D61: 267 | E61: 333 | F61: 352 | G61: 215 | H61: 417 | I61: 298 | J61: 321 | K61: =241*20 -> 4820 | L61: =242*20 -> 4840 | M61: =20*360 -> 7200 | N61: =20*18 -> 360 | O61: =20*57 -> 1140 | P61: 0 | Q61: =21.98*198 -> 4352.04
C62: Kitsumkalum - Class II (Aug 7 - Mar 31) | D62: 29 | E62: 40 | F62: 505 | G62: 506 | H62: 466 | I62: 499 | J62: 710 | K62: =559*20 -> 11180 | L62: =694*20 -> 13880 | M62: =20*536 -> 10720 | N62: =20*80 -> 1600 | O62: =20*84 -> 1680 | P62: =20*380 -> 7600 | Q62: =21.98*392 -> 8616.16
C63: Kitsumkalum - Class II (Jun 1 - Aug 6) | D63: 529 | E63: 285 | F63: 188 | G63: 231 | H63: 185 | I63: 242 | J63: 258 | K63: =154*20 -> 3080 | L63: =5*20 -> 100 | M63: =20*15 -> 300 | N63: =20*8 -> 160 | O63: =20*4 -> 80 | P63: =20*6 -> 120 | Q63: =21.98*9 -> 197.82
C64: Kitwanga - Class II (Apr 1 - August 31) | D64: 0 | E64: 0 | F64: 2 | G64: 5 | H64: 1 | I64: 2 | J64: 5 | K64: =11*20 -> 220 | L64: 0 | M64: =20*4 -> 80 | N64: 0 | O64: =20*1 -> 20 | P64: =20*13 -> 260 | Q64: =21.98*23 -> 505.54
C65: Kitwanga - Class II (Nov 1 - Mar 31) | D65: 2 | E65: 3 | F65: 0 | G65: 0 | H65: 0 | I65: 0 | J65: 4 | K65: =5*20 -> 100 | L65: =2*20 -> 40 | M65: =20*1 -> 20 | N65: 0 | O65: 0 | P65: 0 | Q65: 0
C66: Kitwanga - Class II (Sep 1 - Oct 31) | D66: 4 | E66: 12 | F66: 14 | G66: 13 | H66: 0 | I66: 3 | J66: 7 | K66: =11*20 -> 220 | L66: =4*20 -> 80 | M66: =20*1 -> 20 | N66: =20*3 -> 60 | O66: 0 | P66: =20*8 -> 160 | Q66: =21.98*23 -> 505.54
C67: Kluatantan - Class II (Apr 1 - Aug 31) | D67: 0 | E67: 0 | F67: 1 | G67: 0 | H67: 0 | I67: 0 | J67: 0 | K67: 0 | L67: 0 | M67: =20*2 -> 40 | N67: 0 | O67: 0 | P67: 0 | Q67: 0
C68: Kluatantan - Class II (Sep 1 - Oct 31) | D68: 35 | E68: 72 | F68: 83 | G68: 74 | H68: 80 | I68: 85 | J68: 81 | K68: =111*20 -> 2220 | L68: =106*20 -> 2120 | M68: =20*109 -> 2180 | N68: =20*30 -> 600 | O68: =20*96 -> 1920 | P68: =20*98 -> 1960 | Q68: =21.98*117 -> 2571.66
C69: Kootenay - Class II (Apr 1 - Mar 31) | D69: 66 | E69: 34 | F69: 85 | G69: 60 | H69: 108 | I69: 97 | J69: 124 | K69: =89*20 -> 1780 | L69: =137*20 -> 2740 | M69: =20*184 -> 3680 | N69: =20*233 -> 4660 | O69: =20*187 -> 3740 | P69: =20*228 -> 4560 | Q69: =21.98*216 -> 4747.68
C70: Kwinageese - Class II (Sep 1 - Oct 31) | D70: 0 | E70: 0 | F70: 0 | G70: 0 | H70: 0 | I70: 0 | J70: 0 | K70: =2*20 -> 40 | L70: 0 | M70: 0 | N70: 0 | O70: 0 | P70: =20*2 -> 40 | Q70: 0
C71: Kwinamass - Class II (Apr 1 - May 31) | D71: 75 | E71: 30 | F71: 31 | G71: 24 | H71: 23 | I71: 13 | J71: 11 | K71: =42*20 -> 840 | L71: =23*20 -> 460 | M71: =20*28 -> 560 | N71: =20*19 -> 380 | O71: 0 | P71: =20*19 -> 380 | Q71: =21.98*32 -> 703.36
C72: Kwinamass - Class II (Jun 1 - Sep 30) | D72: 2 | E72: 0 | F72: 0 | G72: 2 | H72: 49 | I72: 0 | J72: 0 | K72: 0 | L72: 0 | M72: 0 | N72: 0 | O72: 0 | P72: =20*12 -> 240 | Q72: =21.98*9 -> 197.82
C73: Lakelse - Class I (Apr 1 - May 31) | D73: 16 | E73: 24 | F73: 30 | G73: 20 | H73: 29 | I73: 7 | J73: 17 | K73: =16*40 -> 640 | L73: =3*40 -> 120 | M73: =40*12 -> 480 | N73: 0 | O73: =40*2 -> 80 | P73: =40*1 -> 40 | Q73: =43.96*1 -> 43.96
C74: Lakelse - Class I (Jun 1 - Aug 31) | D74: 216 | E74: 191 | F74: 14 | G74: 13 | H74: 12 | I74: 13 | J74: 9 | K74: =6*40 -> 240 | L74: =7*40 -> 280 | M74: =40*12 -> 480 | N74: =40*2 -> 80 | O74: =40*3 -> 120 | P74: =40*10 -> 400 | Q74: =43.96*3 -> 131.88
C75: Lakelse - Class I (Sept 1 - Mar 31) | D75: 1 | E75: 1 | F75: 54 | G75: 94 | H75: 59 | I75: 60 | J75: 41 | K75: =78*40 -> 3120 | L75: =19*40 -> 760 | M75: =40*46 -> 1840 | N75: =40*11 -> 440 | O75: =40*24 -> 960 | P75: =40*91 -> 3640 | Q75: =43.96*66 -> 2901.36
C76: Michel - Class ll (Apr 1 - Mar 31) | D76: 0 | E76: 0 | F76: 0 | G76: 0 | H76: 0 | I76: 110 | J76: 936 | K76: =959*20 -> 19180 | L76: =1010*20 -> 20200 | M76: =20*1015 -> 20300 | N76: =20*574 -> 11480 | O76: =20*753 -> 15060 | P76: =20*963 -> 19260 | Q76: =21.98*998 -> 21936.04
C77: Morice - Class II (Sep 1 - Oct 31) | D77: 1414 | E77: 1201 | F77: 1232 | G77: 1250 | H77: 1591 | I77: 1487 | J77: 1502 | K77: =1052*20 -> 21040 | L77: =1314*20 -> 26280 | M77: =20*1120 -> 22400 | N77: =20*243 -> 4860 | O77: =20*501 -> 10020 | P77: =20*866 -> 17320 | Q77: =21.98*702 -> 15429.96
C78: Nekite - Class II (Apr 1 - May 31) | D78: 0 | E78: 0 | F78: 0 | G78: 0 | H78: 0 | I78: 0 | J78: 1 | K78: 0 | L78: 0 | M78: 0 | N78: 0 | O78: 0 | P78: =20*18 -> 360 | Q78: 0
C79: Q. Charlotte Others - Class II (Apr 1 - Apr 30) | D79: 3 | E79: 40 | F79: 0 | G79: 24 | H79: 0 | I79: 39 | J79: 0 | K79: 0 | L79: =2*20 -> 40 | M79: =20*3 -> 60 | N79: 0 | O79: 0 | P79: =20*5 -> 100 | Q79: =21.98*8 -> 175.84
C80: Q. Charlotte Others - Class II (Dec 1 - Mar 31) | D80: 20 | E80: 53 | F80: 66 | G80: 128 | H80: 143 | I80: 177 | J80: 171 | K80: =249*20 -> 4980 | L80: =245*20 -> 4900 | M80: =20*230 -> 4600 | N80: 0 | O80: =20*211 -> 4220 | P80: =20*215 -> 4300 | Q80: =21.98*252 -> 5538.96
C81: Q. Charlotte Others - Class II (Sep 1 - Nov 30) | D81: 360 | E81: 345 | F81: 218 | G81: 277 | H81: 287 | I81: 239 | J81: 230 | K81: =210*20 -> 4200 | L81: =276*20 -> 5520 | M81: =20*245 -> 4900 | N81: 0 | O81: =20*63 -> 1260 | P81: =20*146 -> 2920 | Q81: =21.98*86 -> 1890.28
C82: Seymour - Class II (Aug 15 - Oct 31) | D82: 27 | E82: 93 | F82: 104 | G82: 268 | H82: 164 | I82: 162 | J82: 118 | K82: =140*20 -> 2800 | L82: =155*20 -> 3100 | M82: =20*199 -> 3980 | N82: =20*42 -> 840 | O82: =20*189 -> 3780 | P82: =20*224 -> 4480 | Q82: =21.98*125 -> 2747.5
C83: Skeena - Class II Exchamsiks (Jul 1 - Sep 30) | D83: 2925 | E83: 2800 | F83: 2318 | G83: 3425 | H83: 3480 | I83: 3646 | J83: 3629 | K83: =3446*20 -> 68920 | L83: =2289*20 -> 45780 | M83: =20*2148 -> 42960 | N83: =20*237 -> 4740 | O83: =20*567 -> 11340 | P83: =20*1285 -> 25700 | Q83: =21.98*1282 -> 28178.36
C84: Skeena - Class II Zymoetz (Jul 1 - Dec 31) | D84: 1884 | E84: 1405 | F84: 1627 | G84: 1896 | H84: 1978 | I84: 2339 | J84: 2686 | K84: =2383*20 -> 47660 | L84: =3164*20 -> 63280 | M84: =20*1900 -> 38000 | N84: =20*215 -> 4300 | O84: =20*645 -> 12900 | P84: =20*1702 -> 34040 | Q84: =21.98*1852 -> 40706.96
C85: Skookumchuck - Class II (Apr 1 - Mar 31) | D85: 276 | E85: 227 | F85: 229 | G85: 200 | H85: 243 | I85: 283 | J85: 212 | K85: =228*20 -> 4560 | L85: =263*20 -> 5260 | M85: =20*262 -> 5240 | N85: =20*194 -> 3880 | O85: =20*198 -> 3960 | P85: =20*236 -> 4720 | Q85: =21.98*259 -> 5692.82
C86: St. Mary - Class II (Apr 1 - Mar 31) | D86: 852 | E86: 783 | F86: 805 | G86: 900 | H86: 883 | I86: 864 | J86: 1195 | K86: =1075*20 -> 21500 | L86: =1141*20 -> 22820 | M86: =20*1253 -> 25060 | N86: =20*732 -> 14640 | O86: =20*654 -> 13080 | P86: =20*1029 -> 20580 | Q86: =21.98*957 -> 21034.86
C87: Stellako - Class II (Apr 1 - Mar 31) | D87: 198 | E87: 77 | F87: 113 | G87: 168 | H87: 149 | I87: 128 | J87: 166 | K87: =133*20 -> 2660 | L87: =95*20 -> 1900 | M87: =20*137 -> 2740 | N87: =20*44 -> 880 | O87: =20*76 -> 1520 | P87: =20*114 -> 2280 | Q87: =21.98*101 -> 2219.98
C88: Suskwa - Class I (Apr 1 - Aug 31) | D88: 1 | E88: 0 | F88: 5 | G88: 6 | H88: 8 | I88: 6 | J88: 2 | K88: =6*40 -> 240 | L88: =1*40 -> 40 | M88: =40*8 -> 320 | N88: 0 | O88: =40*2 -> 80 | P88: =40*4 -> 160 | Q88: =43.96*1 -> 43.96
C89: Suskwa - Class I (Nov 1 - Mar 31) | D89: 0 | E89: 0 | F89: 0 | G89: 0 | H89: 1 | I89: 0 | J89: 1 | K89: =3*40 -> 120 | L89: 0 | M89: 0 | N89: 0 | O89: 0 | P89: 0 | Q89: 0
C90: Suskwa - Class I (Sep 1 - Oct 31) | D90: 127 | E90: 149 | F90: 50 | G90: 36 | H90: 45 | I90: 55 | J90: 121 | K90: =91*40 -> 3640 | L90: =18*40 -> 720 | M90: =40*36 -> 1440 | N90: =40*5 -> 200 | O90: =40*12 -> 480 | P90: =40*21 -> 840 | Q90: =43.96*8 -> 351.68
C91: Sustut - Class I (Sep 1 - Oct 31) | D91: 776 | E91: 918 | F91: 875 | G91: 873 | H91: 879 | I91: 891 | J91: 911 | K91: =951*40 -> 38040 | L91: =833*40 -> 33320 | M91: =40*845 -> 33800 | N91: =40*120 -> 4800 | O91: =40*509 -> 20360 | P91: =40*728 -> 29120 | Q91: =43.96*594 -> 26112.24
C92: Thompson - Class II (Oct 1 - Dec 31) | D92: 0 | E92: 364 | F92: 448 | G92: 514 | H92: 524 | I92: 225 | J92: 224 | K92: =169*20 -> 3380 | L92: 0 | M92: 0 | N92: =20*2 -> 40 | O92: 0 | P92: =20*6 -> 120 | Q92: 0
C93: Wakeman - Class II (Apr 1 - Jun 30) | D93: 3 | E93: 0 | F93: 9 | G93: 8 | H93: 12 | I93: 0 | J93: 19 | K93: =9*20 -> 180 | L93: =9*20 -> 180 | M93: =20*10 -> 200 | N93: 0 | O93: 0 | P93: 0 | Q93: 0
C94: Wakeman - Class II (Jul 1 - Oct 31) | D94: 14 | E94: 87 | F94: 148 | G94: 102 | H94: 145 | I94: 191 | J94: 216 | K94: =278*20 -> 5560 | L94: =217*20 -> 4340 | M94: =20*111 -> 2220 | N94: 0 | O94: =20*1 -> 20 | P94: =20*13 -> 260 | Q94: =21.98*37 -> 813.26
C95: West Road (Blackwater) - Class II (Jun 15 - Oct 31) | D95: 281 | E95: 186 | F95: 149 | G95: 176 | H95: 113 | I95: 123 | J95: 114 | K95: =89*20 -> 1780 | L95: =51*20 -> 1020 | M95: =20*63 -> 1260 | N95: =20*3 -> 60 | O95: =20*4 -> 80 | P95: =20*70 -> 1400 | Q95: =21.98*3 -> 65.94
C96: White - Class II (Apr 1 - Mar 31) | D96: 206 | E96: 215 | F96: 207 | G96: 85 | H96: 149 | I96: 280 | J96: 258 | K96: =118*20 -> 2360 | L96: =228*20 -> 4560 | M96: =20*301 -> 6020 | N96: =20*230 -> 4600 | O96: =20*220 -> 4400 | P96: =20*288 -> 5760 | Q96: =21.98*300 -> 6594
C97: Wigwam - Class II (Apr 1 - Mar 31) | D97: 912 | E97: 747 | F97: 931 | G97: 1161 | H97: 1105 | I97: 1131 | J97: 532 | K97: =470*20 -> 9400 | L97: =508*20 -> 10160 | M97: =20*517 -> 10340 | N97: =20*311 -> 6220 | O97: =20*404 -> 8080 | P97: =20*455 -> 9100 | Q97: =21.98*483 -> 10616.34
C98: Yakoun - Class II (Apr 1 - Apr 30) | D98: 0 | E98: 0 | F98: 0 | G98: 0 | H98: 0 | I98: 0 | J98: 2 | K98: =2*20 -> 40 | L98: =4*20 -> 80 | M98: =20*13 -> 260 | N98: 0 | O98: 0 | P98: 0 | Q98: 0
C99: Yakoun - Class II (Dec 1 - Mar 31) | D99: 94 | E99: 95 | F99: 91 | G99: 99 | H99: 105 | I99: 181 | J99: 216 | K99: =232*20 -> 4640 | L99: =177*20 -> 3540 | M99: =20*153 -> 3060 | N99: =20*2 -> 40 | O99: =20*113 -> 2260 | P99: =20*111 -> 2220 | Q99: =21.98*175 -> 3846.5
C100: Yakoun - Class II (Sep 1 - Nov 30) | D100: 25 | E100: 63 | F100: 10 | G100: 101 | H100: 34 | I100: 41 | J100: 30 | K100: =108*20 -> 2160 | L100: =69*20 -> 1380 | M100: =20*68 -> 1360 | N100: =20*1 -> 20 | O100: =20*31 -> 620 | P100: =20*11 -> 220 | Q100: =21.98*46 -> 1011.08
C101: Zymoetz - Class I Above (July 24 - Dec 31) | D101: 84 | E101: 120 | F101: 80 | G101: 98 | H101: 108 | I101: 131 | J101: 195 | K101: =138*40 -> 5520 | L101: =263*40 -> 10520 | M101: =40*245 -> 9800 | N101: =40*37 -> 1480 | O101: =40*81 -> 3240 | P101: =40*186 -> 7440 | Q101: =43.96*187 -> 8220.52
...

Sheet Graphs
A1: Annual Angling Licence Sales by Type
A3: Residency | B3: Authorization Type | C3: 10/11 | D3: 11/12 | E3: 12/13 | F3: 13/14 | G3: 14/15 | H3: 15/16 | I3: 16/17 | J3: 17/18 | K3: 18/19 | L3: 19/20 | M3: 20/21 | N3: 21/22 | O3: 22/23 | P3: 23/24 | Q3: 24/25
A4: Resident | B4: Resident Basic Licences | C4: ='Compiled Angling Sales Report'!D11 -> 281261 | D4: ='Compiled Angling Sales Report'!E11 -> 275243 | E4: ='Compiled Angling Sales Report'!F11 -> 271406 | F4: ='Compiled Angling Sales Report'!G11 -> 278723 | G4: ='Compiled Angling Sales Report'!H11 -> 295024 | H4: ='Compiled Angling Sales Report'!I11 -> 279261 | I4: ='Compiled Angling Sales Report'!J11 -> 288346 | J4: ='Compiled Angling Sales Report'!K11 -> 275060 | ... Q4: ='Compiled Angling Sales Report'!R11 -> 290506
B5: Classified Waters Licences | C5: ='Compiled Angling Sales Report'!D12 -> 17573 | D5: ='Compiled Angling Sales Report'!E12 -> 17124 | E5: ='Compiled Angling Sales Report'!F12 -> 17174 | F5: ='Compiled Angling Sales Report'!G12 -> 18215 | G5: ='Compiled Angling Sales Report'!H12 -> 20380 | H5: ='Compiled Angling Sales Report'!I12 -> 20415 | I5: ='Compiled Angling Sales Report'!J12 -> 21052 | J5: ='Compiled Angling Sales Report'!K12 -> 18557 | ... Q5: ='Compiled Angling Sales Report'!R12 -> 21535
B6: Resident Conservation Surcharges | C6: ='Compiled Angling Sales Report'!D21 -> 100831 | D6: ='Compiled Angling Sales Report'!E21 -> 94946 | E6: ='Compiled Angling Sales Report'!F21 -> 89632 | F6: ='Compiled Angling Sales Report'!G21 -> 99149 | G6: ='Compiled Angling Sales Report'!H21 -> 123414 | H6: ='Compiled Angling Sales Report'!I21 -> 98595 | I6: ='Compiled Angling Sales Report'!J21 -> 94375 | J6: ='Compiled Angling Sales Report'!K21 -> 88420 | ... Q6: ='Compiled Angling Sales Report'!R21 -> 96104
B7: Resident Transactions | C7: ='Compiled Angling Sales Report'!D22 -> 399665 | D7: ='Compiled Angling Sales Report'!E22 -> 387313 | E7: ='Compiled Angling Sales Report'!F22 -> 378212 | F7: ='Compiled Angling Sales Report'!G22 -> 396087 | G7: ='Compiled Angling Sales Report'!H22 -> 438818 | H7: ='Compiled Angling Sales Report'!I22 -> 398271 | I7: ='Compiled Angling Sales Report'!J22 -> 403773 | J7: ='Compiled Angling Sales Report'!K22 -> 382037 | ... Q7: ='Compiled Angling Sales Report'!R22 -> 408145
A8: Non-Resident | B8: Non-Resident Basic Licences | C8: ='Compiled Angling Sales Report'!D27 -> 60595 | D8: ='Compiled Angling Sales Report'!E27 -> 61778 | E8: ='Compiled Angling Sales Report'!F27 -> 61618 | F8: ='Compiled Angling Sales Report'!G27 -> 65190 | G8: ='Compiled Angling Sales Report'!H27 -> 70025 | H8: ='Compiled Angling Sales Report'!I27 -> 71925 | I8: ='Compiled Angling Sales Report'!J27 -> 76405 | J8: ='Compiled Angling Sales Report'!K27 -> 72512 | ... Q8: ='Compiled Angling Sales Report'!R27 -> 67063
B9: Non-Resident Classified Waters Days | C9: ='Compiled Angling Sales Report'!D102 -> 29557 | D9: ='Compiled Angling Sales Report'!E102 -> 29782 | E9: ='Compiled Angling Sales Report'!F102 -> 29838 | F9: ='Compiled Angling Sales Report'!G102 -> 32920 | G9: ='Compiled Angling Sales Report'!H102 -> 34526 | H9: ='Compiled Angling Sales Report'!I102 -> 37142 | I9: ='Compiled Angling Sales Report'!J102 -> 39837 | J9: ='Compiled Angling Sales Report'!K102 -> 36095 | ... Q9: ='Compiled Angling Sales Report'!R102 -> 33013
B10: Non-Resident Conservation Surcharges | C10: ='Compiled Angling Sales Report'!D111 -> 15489 | D10: ='Compiled Angling Sales Report'!E111 -> 17583 | E10: ='Compiled Angling Sales Report'!F111 -> 16685 | F10: ='Compiled Angling Sales Report'!G111 -> 17750 | G10: ='Compiled Angling Sales Report'!H111 -> 21994 | H10: ='Compiled Angling Sales Report'!I111 -> 19619 | I10: ='Compiled Angling Sales Report'!J111 -> 19233 | J10: ='Compiled Angling Sales Report'!K111 -> 19107 | ... Q10: ='Compiled Angling Sales Report'!R111 -> 17169
B11: Non-Resident Transactions | C11: ='Compiled Angling Sales Report'!D112 -> 105641 | D11: ='Compiled Angling Sales Report'!E112 -> 109143 | E11: ='Compiled Angling Sales Report'!F112 -> 108141 | F11: ='Compiled Angling Sales Report'!G112 -> 115860 | G11: ='Compiled Angling Sales Report'!H112 -> 126545 | H11: ='Compiled Angling Sales Report'!I112 -> 128686 | I11: ='Compiled Angling Sales Report'!J112 -> 135475 | J11: ='Compiled Angling Sales Report'!K112 -> 127714 | ... Q11: ='Compiled Angling Sales Report'!R112 -> 117245
A12: ALL | B12: Total Transactions | C12: ='Compiled Angling Sales Report'!D113 -> 505306 | D12: ='Compiled Angling Sales Report'!E113 -> 496456 | E12: ='Compiled Angling Sales Report'!F113 -> 486353 | F12: ='Compiled Angling Sales Report'!G113 -> 511947 | G12: ='Compiled Angling Sales Report'!H113 -> 565363 | H12: ='Compiled Angling Sales Report'!I113 -> 526957 | I12: ='Compiled Angling Sales Report'!J113 -> 539248 | J12: ='Compiled Angling Sales Report'!K113 -> 509751 | ... Q12: ='Compiled Angling Sales Report'!R113 -> 525390

Sheet Data Notes
A1: Data Notes
A3: Notes
A4: Date source: E-Licencing data from Corral database
A5: Non-resident licence statistics include Canadian Residents (outside BC) and Non-Residents (outside Canada)
A6: Non-resident Classified Waters statistics are number of Days Sold rather than Licence Sales
