Workbook

Sheet Compiled Angling Sales Report
A1: Annual Angling Licence Sales by Type
A3: Residency | B3: Product Type | C3: Licence Type | D3: 10/11 | E3: 11/12 | F3: 12/13 | G3: 13/14 | H3: 14/15 | I3: 15/16 | J3: 16/17 | K3: 17/18 | L3: 18/19 | M3: 19/20 | N3: 20/21 | O3: 21/22 | P3: 22/23 | Q3: 23/24 | R3: 24/25
A4: Resident | B4: Basic Licence | C4: Annual Angling Licence | D4: 199799 | E4: 192825 | F4: 187744 | G4: 193631 | H4: 205903 | I4: 194461 | J4: 200515 | K4: 191361 | L4: 194264 | M4: 194757 | N4: 237539 | O4: 206697 | P4: 192754 | Q4: 189637 | R4: 189472
C5: Annual Angling Licence (Age 65 +) - reduced rate | D5: 42756 | E5: 42938 | F5: 44648 | G5: 46652 | H5: 49624 | I5: 49134 | J5: 52563 | K5: 50533 | L5: 53708 | M5: 55535 | N5: 59249 | O5: 57843 | P5: 59779 | Q5: 60350 | R5: 62368
C6: Annual Angling Licence (Age 65 +) - full price | D6: 0 | E6: 0 | F6: 0 | G6: 0 | H6: 0 | I6: 0 | J6: 0 | K6: 0 | L6: 0 | M6: 0 | N6: 0 | O6: 782 | P6: 258 | Q6: 238 | R6: 197
C7: Annual Licence for Disabled | D7: 8926 | E7: 8970 | F7: 9080 | G7: 9249 | H7: 9682 | I7: 9306 | J7: 9637 | K7: 9143 | L7: 8963 | M7: 9469 | N7: 9628 | O7: 8873 | P7: 8390 | Q7: 8301 | R7: 8475
C8: Eight Day Angling Licence | D8: 11976 | E8: 12088 | F8: 11996 | G8: 10689 | H8: 10831 | I8: 9529 | J8: 9908 | K8: 8566 | L8: 9247 | M8: 9343 | N8: 10043 | O8: 7310 | P8: 8164 | Q8: 8596 | R8: 9946
C9: Family Fishing Weekend Licence | D9: 2 | E9: 7 | F9: 2 | G9: 7 | H9: 2 | I9: 13 | J9: 2 | K9: 4 | L9: 2 | M9: 0 | N9: 6 | O9: 12 | P9: 3 | Q9: 7 | R9: 7
C10: One Day Angling Licence | D10: 17802 | E10: 18415 | F10: 17936 | G10: 18495 | H10: 18982 | I10: 16818 | J10: 15721 | K10: 15453 | L10: 16506 | M10: 15773 | N10: 17968 | O10: 14124 | P10: 15311 | Q10: 18437 | R10: 20041
C11: Total Resident Basic Licences | D11: =SUM(D4:D10) -> 281261 | E11: =SUM(E4:E10) -> 275243 | F11: =SUM(F4:F10) -> 271406 | G11: =SUM(G4:G10) -> 278723 | H11: =SUM(H4:H10) -> 295024 | I11: =SUM(I4:I10) -> 279261 | J11: =SUM(J4:J10) -> 288346 | K11: =SUM(K4:K10) -> 275060 | ... R11: =SUM(R4:R10) -> 290506
B12: Classified Waters | C12: Classified Waters Licence | D12: 17573 | E12: 17124 | F12: 17174 | G12: 18215 | H12: 20380 | I12: 20415 | J12: 21052 | K12: 18557 | L12: 16837 | M12: 18018 | N12: 21074 | O12: 19848 | P12: 20264 | Q12: 21065 | R12: 21535
B13: Conservation Surcharge | C13: Kootenay Lake Rainbow Trout | D13: 3308 | E13: 3925 | F13: 4208 | G13: 4330 | H13: 3817 | I13: 2765 | J13: 2197 | K13: 2108 | L13: 2078 | M13: 2092 | N13: 2867 | O13: 2783 | P13: 2682 | Q13: 2765 | R13: 2599
C14: Non-Tidal Salmon | D14: 72198 | E14: 62892 | F14: 53821 | G14: 60845 | H14: 83692 | I14: 60443 | J14: 55945 | K14: 51143 | L14: 62029 | M14: 45840 | N14: 55187 | O14: 53221 | P14: 57499 | Q14: 58373 | R14: 58057
C15: Shuswap Lake Char | D15: 931 | E15: 992 | F15: 1093 | G15: 1246 | H15: 1247 | I15: 1271 | J15: 1564 | K15: 1576 | L15: 1549 | M15: 1667 | N15: 2150 | O15: 2078 | P15: 2080 | Q15: 1806 | R15: 1802
C16: Shuswap Lake Rainbow Trout | D16: 3124 | E16: 3323 | F16: 3676 | G16: 3784 | H16: 3664 | I16: 3626 | J16: 4455 | K16: 4323 | L16: 3986 | M16: 4108 | N16: 5444 | O16: 4934 | P16: 4690 | Q16: 3983 | R16: 4109
C17: Steelhead | D17: 14841 | E17: 15573 | F17: 17368 | G17: 18033 | H17: 19559 | I17: 18537 | J17: 18363 | K17: 17005 | L17: 16136 | M17: 15996 | N17: 18662 | O17: 16843 | P17: 16798 | Q17: 17145 | R17: 18152
C18: Sturgeon (1 Day) | D18: 2976 | E18: 4455 | F18: 5488 | G18: 6576 | H18: 6578 | I18: 6888 | J18: 6849 | K18: 6882 | L18: 7112 | M18: 6399 | N18: 5951 | O18: 7118 | P18: 6856 | Q18: 7065 | R18: 6399
C19: Sturgeon (8 Day) | D19: 294 | E19: 383 | F19: 527 | G19: 528 | H19: 556 | I19: 519 | J19: 478 | K19: 557 | L19: 714 | M19: 707 | N19: 553 | O19: 695 | P19: 730 | Q19: 762 | R19: 584
C20: Sturgeon (Annual) | D20: 3159 | E20: 3403 | F20: 3451 | G20: 3807 | H20: 4301 | I20: 4546 | J20: 4524 | K20: 4826 | L20: 4842 | M20: 4574 | N20: 4641 | O20: 5127 | P20: 4845 | Q20: 4558 | R20: 4402
C21: Total Resident Conservation Surcharges | D21: =SUM(D13:D20) -> 100831 | E21: =SUM(E13:E20) -> 94946 | F21: =SUM(F13:F20) -> 89632 | G21: =SUM(G13:G20) -> 99149 | H21: =SUM(H13:H20) -> 123414 | I21: =SUM(I13:I20) -> 98595 | J21: =SUM(J13:J20) -> 94375 | K21: =SUM(K13:K20) -> 88420 | ... R21: =SUM(R13:R20) -> 96104
B22: All Types | C22: Total Resident Transactions | D22: =SUM(D21,D12,D11) -> 399665 | E22: =SUM(E21,E12,E11) -> 387313 | F22: =SUM(F21,F12,F11) -> 378212 | G22: =SUM(G21,G12,G11) -> 396087 | H22: =SUM(H21,H12,H11) -> 438818 | I22: =SUM(I21,I12,I11) -> 398271 | J22: =SUM(J21,J12,J11) -> 403773 | K22: =SUM(K21,K12,K11) -> 382037 | ... R22: =SUM(R21,R12,R11) -> 408145
A23: Non-Resident | B23: Basic Licence | C23: Annual Angling Licence | D23: 21288 | E23: 21135 | F23: 21148 | G23: 22558 | H23: 24665 | I23: 25611 | J23: 27742 | K23: 26036 | L23: 25713 | M23: 26638 | N23: 22829 | O23: 21872 | P23: 25568 | Q23: 25469 | R23: 24849
C24: Eight Day Angling Licence | D24: 25467 | E24: 25950 | F24: 26102 | G24: 27771 | H24: 29257 | I24: 29645 | J24: 30618 | K24: 28287 | L24: 28621 | M24: 28846 | N24: 15731 | O24: 15064 | P24: 22170 | Q24: 23986 | R24: 24081
C25: Family Fishing Weekend Licence | D25: 0 | E25: 0 | F25: 1 | G25: 9 | H25: 0 | I25: 0 | J25: 2 | K25: 4 | L25: 3 | M25: 1 | N25: 0 | O25: 7 | P25: 1 | Q25: 4 | R25: 1
C26: One Day Angling Licence | D26: 13840 | E26: 14693 | F26: 14367 | G26: 14852 | H26: 16103 | I26: 16669 | J26: 18043 | K26: 18185 | L26: 18888 | M26: 18692 | N26: 7740 | O26: 9097 | P26: 14535 | Q26: 23986 | R26: 18132
C27: Total Non-Resident Basic Licences | D27: =SUM(D23:D26) -> 60595 | E27: =SUM(E23:E26) -> 61778 | F27: =SUM(F23:F26) -> 61618 | G27: =SUM(G23:G26) -> 65190 | H27: =SUM(H23:H26) -> 70025 | I27: =SUM(I23:I26) -> 71925 | J27: =SUM(J23:J26) -> 76405 | K27: =SUM(K23:K26) -> 72512 | ... R27: =SUM(R23:R26) -> 67063
B28: Classified Waters Days | C28: Ahnuhati - Class II (Apr 1 - Jun 30) | D28: 0 | E28: 0 | F28: 2 | G28: 0 | H28: 0 | I28: 3 | J28: 4 | K28: 15 | L28: 0 | M28: 5 | N28: 0 | O28: 6 | P28: 18 | Q28: 10 | R28: 2
C29: Ahnuhati - Class II (Jul 1 - Oct 31) | D29: 16 | E29: 72 | F29: 95 | G29: 120 | H29: 177 | I29: 138 | J29: 205 | K29: 132 | L29: 221 | M29: 101 | N29: 11 | O29: 153 | P29: 167 | Q29: 166 | R29: 76
C30: Babine - Class I (Sep 1 - Oct 31) | D30: 1595 | E30: 1899 | F30: 1803 | G30: 1885 | H30: 1840 | I30: 2039 | J30: 2133 | K30: 2188 | L30: 2110 | M30: 2053 | N30: 338 | O30: 1112 | P30: 1826 | Q30: 1726 | R30: 1967
C31: Bella Coola/Atnarko - Class II (Apr 1 - May 31) | D31: 0 | E31: 0 | F31: 0 | G31: 0 | H31: 0 | I31: 0 | J31: 0 | K31: 0 | L31: 0 | M31: 0 | N31: 0 | O31: 0 | P31: 5 | Q31: 2 | R31: 0
C32: Bella Coola/Atnarko - Class II (Mar 1 - Mar 31) | D32: 0 | E32: 0 | F32: 0 | G32: 0 | H32: 0 | I32: 0 | J32: 0 | K32: 0 | L32: 0 | M32: 0 | N32: 0 | O32: 1 | P32: 0 | Q32: 0 | R32: 0
C33: Bulkley - Class II (Sep 1 - Oct 31) | D33: 3972 | E33: 3638 | F33: 4013 | G33: 4057 | H33: 4553 | I33: 4637 | J33: 5421 | K33: 4226 | L33: 4987 | M33: 4251 | N33: 836 | O33: 1400 | P33: 2895 | Q33: 2683 | R33: 3347
C34: Bull - Class II (Apr 1 - Mar 31) | D34: 548 | E34: 466 | F34: 443 | G34: 614 | H34: 781 | I34: 990 | J34: 1108 | K34: 993 | L34: 1146 | M34: 1013 | N34: 628 | O34: 693 | P34: 1076 | Q34: 1321 | R34: 1177
C35: Chilko - Class II (Jun 11 - Oct 31) | D35: 204 | E35: 248 | F35: 263 | G35: 305 | H35: 435 | I35: 545 | J35: 627 | K35: 490 | L35: 598 | M35: 450 | N35: 10 | O35: 59 | P35: 471 | Q35: 343 | R35: 456
C36: Chuckwalla/Kilbella - Class II (Apr 1 - May 31) | D36: 4 | E36: 8 | F36: 6 | G36: 14 | H36: 0 | I36: 1 | J36: 6 | K36: 4 | L36: 8 | M36: 8 | N36: 0 | O36: 0 | P36: 12 | Q36: 24 | R36: 14
C37: Damdochax - Class II (Sep 1 - Oct 31) | D37: 11 | E37: 174 | F37: 216 | G37: 206 | H37: 228 | I37: 197 | J37: 216 | K37: 176 | L37: 147 | M37: 101 | N37: 4 | O37: 80 | P37: 64 | Q37: 115 | R37: 184
C38: Dean - Class 1 Upper - Draw (Jun - Sep) | D38: 0 | E38: 0 | F38: 0 | G38: 0 | H38: 0 | I38: 0 | J38: 0 | K38: 0 | L38: 0 | M38: 0 | N38: 0 | O38: 276 | P38: 375 | Q38: 354 | R38: 464
C39: Dean - Class I Crag (Jun 1 - Sep 30) | D39: 3 | E39: 21 | F39: 6 | G39: 8 | H39: 0 | I39: 0 | J39: 7 | K39: 20 | L39: 7 | M39: 7 | N39: 0 | O39: 18 | P39: 0 | Q39: 0 | R39: 1
C40: Dean - Class I Kalone (Jun 1 - Sep 30) | D40: 48 | E40: 50 | F40: 41 | G40: 61 | H40: 62 | I40: 50 | J40: 104 | K40: 65 | L40: 140 | M40: 114 | N40: 45 | O40: 68 | P40: 126 | Q40: 94 | R40: 120
... C101: Zymoetz - Class ll Below (July 24 - March 31) | D101: 0 | E101: 0 | F101: 0 | G101: 967 | H101: 964 | I101: 1302 | J101: 1362 | K101: 919 | L101: 1341 | M101: 1036 | N101: 340 | O101: 275 | P101: 588 | Q101: 481 | R101: 511
...

Sheet Angling Licence Sales Revenue
A1: Annual Angling Licence Revenue by Type
A3: Residency | B3: Product Type | C3: Licence Type | D3: 10/11 | E3: 11/12 | F3: 12/13 | G3: 13/14 | H3: 14/15 | I3: 15/16 | J3: 16/17 | K3: 17/18 | L3: 18/19 | M3: 19/20 | N3: 20/21 | O3: 21/22 | P3: 22/23 | Q3: 23/24 (YTD to Febuary 29, 2024)
A4: Resident | B4: Basic Licence | C4: Annual Angling Licence | D4: 199799 | E4: 192825 | F4: 187744 | G4: 193631 | H4: 205903 | I4: 194461 | J4: 200515 | K4: =191361*36 -> 6888996 | L4: =194264*36 -> 6993504 | M4: =194757*36 -> 7011252 | N4: =237539*36 -> 8551404 | O4: =206697*36 -> 7441092 | P4: =192754*36 -> 6939144 | Q4: =189456*39.56 -> 7494879.4
C5: Annual Angling Licence (Age 65 +) - reduced rate | D5: 42756 | E5: 42938 | F5: 44648 | G5: 46652 | H5: 49624 | I5: 49134 | J5: 52563 | K5: =50533*5 -> 252665 | L5: =53708*5 -> 268540 | M5: =55535*5 -> 277675 | N5: =59249*5 -> 296245 | O5: =57843*5 -> 289215 | P5: =59779*5 -> 298895 | Q5: =60207*5.5 -> 331138.5
C6: Annual Angling Licence (Age 65 +) - full price | D6: 0 | E6: 0 | F6: 0 | G6: 0 | H6: 0 | I6: 0 | J6: 0 | K6: 0 | L6: 0 | M6: 0 | N6: 0 | O6: =782*36 -> 28152 | P6: =258*36 -> 9288 | Q6: =236*39.56 -> 9336.16
C7: Annual Licence for Disabled | D7: 8926 | E7: 8970 | F7: 9080 | G7: 9249 | H7: 9682 | I7: 9306 | J7: 9637 | K7: =9143*1 -> 9143 | L7: 8963 | M7: 9469 | N7: 9628 | O7: 8873 | P7: =8390 -> 8390 | Q7: =8267*1.1 -> 9093.7
C8: Eight Day Angling Licence | D8: 11976 | E8: 12088 | F8: 11996 | G8: 10689 | H8: 10831 | I8: 9529 | J8: 9908 | K8: =8566*20 -> 171320 | L8: =9247*20 -> 184940 | M8: =9343*20 -> 186860 | N8: =10043*20 -> 200860 | O8: =7310*20 -> 146200 | P8: =8164*20 -> 163280 | Q8: =8194*21.98 -> 180104.12
C9: Family Fishing Weekend Licence | D9: 2 | E9: 7 | F9: 2 | G9: 7 | H9: 2 | I9: 13 | J9: 2 | K9: 0 | L9: 0 | M9: 0 | N9: 0 | O9: 0 | P9: 0 | Q9: 0
C10: One Day Angling Licence | D10: 17802 | E10: 18415 | F10: 17936 | G10: 18495 | H10: 18982 | I10: 16818 | J10: 15721 | K10: =15453*10 -> 154530 | L10: =16506*10 -> 165060 | M10: =15773*10 -> 157730 | N10: =17968*10 -> 179680 | O10: =14124*10 -> 141240 | P10: =15311*10 -> 153110 | Q10: =16681*10.99 -> 183324.19
C11: Total Resident Basic Licence Revenue | D11: =SUM(D4:D10) -> 281261 | E11: =SUM(E4:E10) -> 275243 | F11: =SUM(F4:F10) -> 271406 | G11: =SUM(G4:G10) -> 278723 | H11: =SUM(H4:H10) -> 295024 | I11: =SUM(I4:I10) -> 279261 | J11: =SUM(J4:J10) -> 288346 | K11: =SUM(K4:K10) -> 7476654 | ... Q11: =SUM(Q4:Q10) -> 8207876
B12: Classified Waters | C12: Classified Waters Licence | D12: 17573 | E12: 17124 | F12: 17174 | G12: 18215 | H12: 20380 | I12: 20415 | J12: 21052 | K12: =18557*15 -> 278355 | L12: =16837*15 -> 252555 | M12: =18018*15 -> 270270 | N12: =21074*15 -> 316110 | O12: =19848*15 -> 297720 | P12: =20264*15 -> 303960 | Q12: =21009*16.49 -> 346438.41
B13: Conservation Surcharge | C13: Kootenay Lake Rainbow Trout | D13: 3308 | E13: 3925 | F13: 4208 | G13: 4330 | H13: 3817 | I13: 2765 | J13: 2197 | K13: =2108*10 -> 21080 | L13: =2078*10 -> 20780 | M13: =2092*10 -> 20920 | N13: =2867*10 -> 28670 | O13: =2783*10 -> 27830 | P13: =2682*10 -> 26820 | Q13: =2754*10.99 -> 30266.46
C14: Non-Tidal Salmon | D14: 72198 | E14: 62892 | F14: 53821 | G14: 60845 | H14: 83692 | I14: 60443 | J14: 55945 | K14: =51143*15 -> 767145 | L14: =62029*15 -> 930435 | M14: =45840*15 -> 687600 | N14: =55187*15 -> 827805 | O14: =53221*15 -> 798315 | P14: =57499*15 -> 862485 | Q14: =58351*16.49 -> 962207.99
C15: Shuswap Lake Char | D15: 931 | E15: 992 | F15: 1093 | G15: 1246 | H15: 1247 | I15: 1271 | J15: 1564 | K15: =1576*10 -> 15760 | L15: =1549*10 -> 15490 | M15: =1667*10 -> 16670 | N15: =2150*10 -> 21500 | O15: =2078*10 -> 20780 | P15: =2080*10 -> 20800 | Q15: =1801*10.99 -> 19792.99
C16: Shuswap Lake Rainbow Trout | D16: 3124 | E16: 3323 | F16: 3676 | G16: 3784 | H16: 3664 | I16: 3626 | J16: 4455 | K16: =4323*10 -> 43230 | L16: =3986*10 -> 39860 | M16: =4108*10 -> 41080 | N16: =5444*10 -> 54440 | O16: =4934*10 -> 49340 | P16: =4690*10 -> 46900 | Q16: =3971*10.99 -> 43641.29
C17: Steelhead | D17: 14841 | E17: 15573 | F17: 17368 | G17: 18033 | H17: 19559 | I17: 18537 | J17: 18363 | K17: =17005*25 -> 425125 | L17: =16136*25 -> 403400 | M17: =15996*25 -> 399900 | N17: =18662*25 -> 466550 | O17: =16843*25 -> 421075 | P17: =16798*25 -> 419950 | Q17: =16814*27.48 -> 462048.72
C18: Sturgeon (1 Day) | D18: 2976 | E18: 4455 | F18: 5488 | G18: 6576 | H18: 6578 | I18: 6888 | J18: 6849 | K18: =6882*8 -> 55056 | L18: =7112*8 -> 56896 | M18: =6399*8 -> 51192 | N18: =5951*8 -> 47608 | O18: =7118*8 -> 56944 | P18: =6856*8 -> 54848 | Q18: =6760*8.79 -> 59420.4
C19: Sturgeon (8 Day) | D19: 294 | E19: 383 | F19: 527 | G19: 528 | H19: 556 | I19: 519 | J19: 478 | K19: =557*15 -> 8355 | L19: =714*15 -> 10710 | M19: =707*15 -> 10605 | N19: =553*15 -> 8295 | O19: =695*15 -> 10425 | P19: =730*15 -> 10950 | Q19: =736*16.49 -> 12136.64
C20: Sturgeon (Annual) | D20: 3159 | E20: 3403 | F20: 3451 | G20: 3807 | H20: 4301 | I20: 4546 | J20: 4524 | K20: =4826*25 -> 120650 | L20: =4842*25 -> 121050 | M20: =4574*25 -> 114350 | N20: =4641*25 -> 116025 | O20: =5127*25 -> 128175 | P20: =4845*25 -> 121125 | Q20: =4556*27.48 -> 125198.88
C21: Total Resident Conservation Surcharges | D21: =SUM(D13:D20) -> 100831 | E21: =SUM(E13:E20) -> 94946 | F21: =SUM(F13:F20) -> 89632 | G21: =SUM(G13:G20) -> 99149 | H21: =SUM(H13:H20) -> 123414 | I21: =SUM(I13:I20) -> 98595 | J21: =SUM(J13:J20) -> 94375 | K21: =SUM(K13:K20) -> 1456401 | ... Q21: =SUM(Q13:Q20) -> 1714713.4
B22: All Types | C22: Total Resident Revenue | D22: =SUM(D21,D12,D11) -> 399665 | E22: =SUM(E21,E12,E11) -> 387313 | F22: =SUM(F21,F12,F11) -> 378212 | G22: =SUM(G21,G12,G11) -> 396087 | H22: =SUM(H21,H12,H11) -> 438818 | I22: =SUM(I21,I12,I11) -> 398271 | J22: =SUM(J21,J12,J11) -> 403773 | K22: =SUM(K21,K12,K11) -> 9211410 | ... Q22: =SUM(Q21,Q12,Q11) -> 10269028
A23: Non-Resident | B23: Basic Licence | C23: Annual Angling Licence - Non-Resident | D23: 21288 | E23: 21135 | F23: 21148 | G23: 22558 | H23: 24665 | I23: 25611 | J23: 27742 | K23: =19795*55 -> 1088725 | L23: =19176*55 -> 1054680 | M23: =20142*55 -> 1107810 | N23: =55*21630 -> 1189650 | O23: =55*20084 -> 1104620 | P23: =55*20884 -> 1148620 | Q23: =20174*60.44 -> 1219316.6
C24: Annual Angling Licence - Non-Resident Alien | K24: =6241*80 -> 499280 | L24: =6537*80 -> 522960 | M24: =6496*80 -> 519680 | N24: =80*1199 -> 95920 | O24: =80*1788 -> 143040 | P24: =80*4672 -> 373760 | Q24: =5232*87.92 -> 459997.44
C25: Eight Day Angling Licence - Non-Resident | D25: 25467 | E25: 25950 | F25: 26102 | G25: 27771 | H25: 29257 | I25: 29645 | J25: 30618 | K25: =17230*36 -> 620280 | L25: =17022*36 -> 612792 | M25: =17280*36 -> 622080 | N25: =36*10043 -> 361548 | O25: =36*12780 -> 460080 | P25: =36*14502 -> 522072 | Q25: =14617*39.56 -> 578248.52
C26: Eight Day Angling Licence - Non-Resident Alien | K26: =11057*50 -> 552850 | L26: =11599*50 -> 579950 | M26: =11566*50 -> 578300 | N26: =50*243 -> 12150 | O26: =50*2284 -> 114200 | P26: =50*7665 -> 383250 | Q26: =9136*54.96 -> 502114.56
C27: Family Fishing Weekend Licence | D27: 0 | E27: 0 | F27: 1 | G27: 9 | H27: 0 | I27: 0 | J27: 2 | K27: 0 | L27: 0 | M27: 0 | N27: 0 | O27: 0 | P27: 0 | Q27: 0
C28: One Day Angling Licence | D28: 13840 | E28: 14693 | F28: 14367 | G28: 14852 | H28: 16103 | I28: 16669 | J28: 18043 | K28: =18185*20 -> 363700 | L28: =18888*20 -> 377760 | M28: =18692*20 -> 373840 | N28: =20*7740 -> 154800 | O28: =20*9097 -> 181940 | P28: =20*14537 -> 290740 | Q28: =16767*21.98 -> 368538.66
C29: Total Non-Resident Basic Licences | D29: =SUM(D23:D28) -> 60595 | E29: =SUM(E23:E28) -> 61778 | F29: =SUM(F23:F28) -> 61618 | G29: =SUM(G23:G28) -> 65190 | H29: =SUM(H23:H28) -> 70025 | I29: =SUM(I23:I28) -> 71925 | J29: =SUM(J23:J28) -> 76405 | K29: =SUM(K23:K28) -> 3124835 | ... Q29: =SUM(Q23:Q28) -> 3128215.7
B30: Classified Waters Days | C30: Ahnuhati - Class II (Apr 1 - Jun 30) | D30: 0 | E30: 0 | F30: 2 | G30: 0 | H30: 0 | I30: 3 | J30: 4 | K30: =15*20 -> 300 | L30: =0*20 -> 0 | M30: =5*20 -> 100 | N30: 0 | O30: =20*6 -> 120 | P30: =20*18 -> 360 | Q30: =21.98*10 -> 219.8
C31: Ahnuhati - Class II (Jul 1 - Oct 31) | D31: 16 | E31: 72 | F31: 95 | G31: 120 | H31: 177 | I31: 138 | J31: 205 | K31: =132*20 -> 2640 | L31: =221*20 -> 4420 | M31: =101*20 -> 2020 | N31: =20*11 -> 220 | O31: =20*153 -> 3060 | P31: =20*167 -> 3340 | Q31: =21.98*166 -> 3648.68
C32: Babine - Class I (Sep 1 - Oct 31) | D32: 1595 | E32: 1899 | F32: 1803 | G32: 1885 | H32: 1840 | I32: 2039 | J32: 2133 | K32: =2188*40 -> 87520 | L32: =2110*40 -> 84400 | M32: =2053*40 -> 82120 | N32: =40*338 -> 13520 | O32: =40*1112 -> 44480 | P32: =40*1826 -> 73040 | Q32: =43.96*1726 -> 75874.96
C33: Bella Coola/Atnarko - Class II (Apr 1 - May 31) | D33: 0 | E33: 0 | F33: 0 | G33: 0 | H33: 0 | I33: 0 | J33: 0 | K33: 0 | L33: 0 | M33: 0 | N33: 0 | O33: 0 | P33: =20*5 -> 100 | Q33: =21.98*2 -> 43.96
C34: Bella Coola/Atnarko - Class II (Mar 1 - Mar 31) | D34: 0 | E34: 0 | F34: 0 | G34: 0 | H34: 0 | I34: 0 | J34: 0 | K34: 0 | L34: 0 | M34: 0 | N34: 0 | O34: =20*1 -> 20 | P34: 0 | Q34: 0
C35: Bulkley - Class II (Sep 1 - Oct 31) | D35: 3972 | E35: 3638 | F35: 4013 | G35: 4057 | H35: 4553 | I35: 4637 | J35: 5421 | K35: =4226*20 -> 84520 | L35: =4987*20 -> 99740 | M35: =4251*20 -> 85020 | N35: =20*836 -> 16720 | O35: =20*1400 -> 28000 | P35: =20*2895 -> 57900 | Q35: =21.98*2683 -> 58972.34
C36: Bull - Class II (Apr 1 - Mar 31) | D36: 548 | E36: 466 | F36: 443 | G36: 614 | H36: 781 | I36: 990 | J36: 1108 | K36: =993*20 -> 19860 | L36: =1146*20 -> 22920 | M36: =1013*20 -> 20260 | N36: =20*628 -> 12560 | O36: =20*693 -> 13860 | P36: =20*1076 -> 21520 | Q36: =21.98*1320 -> 29013.6
C37: Chilko - Class II (Jun 11 - Oct 31) | D37: 204 | E37: 248 | F37: 263 | G37: 305 | H37: 435 | I37: 545 | J37: 627 | K37: =490*20 -> 9800 | L37: =598*20 -> 11960 | M37: =450*20 -> 9000 | N37: =20*10 -> 200 | O37: =20*59 -> 1180 | P37: =20*471 -> 9420 | Q37: =21.98*343 -> 7539.14
C38: Chuckwalla/Kilbella - Class II (Apr 1 - May 31) | D38: 4 | E38: 8 | F38: 6 | G38: 14 | H38: 0 | I38: 1 | J38: 6 | K38: =4*20 -> 80 | L38: =8*20 -> 160 | M38: =8*20 -> 160 | N38: 0 | O38: 0 | P38: =20*12 -> 240 | Q38: =21.98*24 -> 527.52
C39: Damdochax - Class II (Sep 1 - Oct 31) | D39: 11 | E39: 174 | F39: 216 | G39: 206 | H39: 228 | I39: 197 | J39: 216 | K39: =176*20 -> 3520 | L39: =147*20 -> 2940 | M39: =101*20 -> 2020 | N39: =20*4 -> 80 | O39: =20*80 -> 1600 | P39: =20*64 -> 1280 | Q39: =21.98*115 -> 2527.7
C40: Dean - Class 1 Upper - Draw (Jun - Sep) | D40: 0 | E40: 0 | F40: 0 | G40: 0 | H40: 0 | I40: 0 | J40: 0 | K40: 0 | L40: 0 | M40: 0 | N40: 0 | O40: =40*276 -> 11040 | P40: =40*375 -> 15000 | Q40: =43.96*354 -> 15561.84
C41: Dean - Class I Crag (Jun 1 - Sep 30) | D41: 3 | E41: 21 | F41: 6 | G41: 8 | H41: 0 | I41: 0 | J41: 7 | K41: =20*40 -> 800 | L41: =7*40 -> 280 | M41: =7*40 -> 280 | N41: 0 | O41: =40*18 -> 720 | P41: 0 | Q41: 0
...

Sheet Graphs
A1: Annual Angling Licence Sales by Type
A3: Residency | B3: Authorization Type | C3: 10/11 | D3: 11/12 | E3: 12/13 | F3: 13/14 | G3: 14/15 | H3: 15/16 | I3: 16/17 | J3: 17/18 | K3: 18/19 | L3: 19/20 | M3: 20/21 | N3: 21/22 | O3: 22/23 | P3: 23/24 | Q3: 24/25
A4: Resident | B4: Resident Basic Licences | C4: ='Compiled Angling Sales Report'!D11 -> 281261 | D4: ='Compiled Angling Sales Report'!E11 -> 275243 | E4: ='Compiled Angling Sales Report'!F11 -> 271406 | F4: ='Compiled Angling Sales Report'!G11 -> 278723 | G4: ='Compiled Angling Sales Report'!H11 -> 295024 | H4: ='Compiled Angling Sales Report'!I11 -> 279261 | I4: ='Compiled Angling Sales Report'!J11 -> 288346 | J4: ='Compiled Angling Sales Report'!K11 -> 275060 | ... Q4: ='Compiled Angling Sales Report'!R11 -> 290506
B5: Classified Waters Licences | C5: ='Compiled Angling Sales Report'!D12 -> 17573 | D5: ='Compiled Angling Sales Report'!E12 -> 17124 | E5: ='Compiled Angling Sales Report'!F12 -> 17174 | F5: ='Compiled Angling Sales Report'!G12 -> 18215 | G5: ='Compiled Angling Sales Report'!H12 -> 20380 | H5: ='Compiled Angling Sales Report'!I12 -> 20415 | I5: ='Compiled Angling Sales Report'!J12 -> 21052 | J5: ='Compiled Angling Sales Report'!K12 -> 18557 | ... Q5: ='Compiled Angling Sales Report'!R12 -> 21535
B6: Resident Conservation Surcharges | C6: ='Compiled Angling Sales Report'!D21 -> 100831 | D6: ='Compiled Angling Sales Report'!E21 -> 94946 | E6: ='Compiled Angling Sales Report'!F21 -> 89632 | F6: ='Compiled Angling Sales Report'!G21 -> 99149 | G6: ='Compiled Angling Sales Report'!H21 -> 123414 | H6: ='Compiled Angling Sales Report'!I21 -> 98595 | I6: ='Compiled Angling Sales Report'!J21 -> 94375 | J6: ='Compiled Angling Sales Report'!K21 -> 88420 | ... Q6: ='Compiled Angling Sales Report'!R21 -> 96104
B7: Resident Transactions | C7: ='Compiled Angling Sales Report'!D22 -> 399665 | D7: ='Compiled Angling Sales Report'!E22 -> 387313 | E7: ='Compiled Angling Sales Report'!F22 -> 378212 | F7: ='Compiled Angling Sales Report'!G22 -> 396087 | G7: ='Compiled Angling Sales Report'!H22 -> 438818 | H7: ='Compiled Angling Sales Report'!I22 -> 398271 | I7: ='Compiled Angling Sales Report'!J22 -> 403773 | J7: ='Compiled Angling Sales Report'!K22 -> 382037 | ... Q7: ='Compiled Angling Sales Report'!R22 -> 408145
A8: Non-Resident | B8: Non-Resident Basic Licences | C8: ='Compiled Angling Sales Report'!D27 -> 60595 | D8: ='Compiled Angling Sales Report'!E27 -> 61778 | E8: ='Compiled Angling Sales Report'!F27 -> 61618 | F8: ='Compiled Angling Sales Report'!G27 -> 65190 | G8: ='Compiled Angling Sales Report'!H27 -> 70025 | H8: ='Compiled Angling Sales Report'!I27 -> 71925 | I8: ='Compiled Angling Sales Report'!J27 -> 76405 | J8: ='Compiled Angling Sales Report'!K27 -> 72512 | ... Q8: ='Compiled Angling Sales Report'!R27 -> 67063
B9: Non-Resident Classified Waters Days | C9: ='Compiled Angling Sales Report'!D102 -> 29557 | D9: ='Compiled Angling Sales Report'!E102 -> 29782 | E9: ='Compiled Angling Sales Report'!F102 -> 29838 | F9: ='Compiled Angling Sales Report'!G102 -> 32920 | G9: ='Compiled Angling Sales Report'!H102 -> 34526 | H9: ='Compiled Angling Sales Report'!I102 -> 37142 | I9: ='Compiled Angling Sales Report'!J102 -> 39837 | J9: ='Compiled Angling Sales Report'!K102 -> 36095 | ... Q9: ='Compiled Angling Sales Report'!R102 -> 33013
B10: Non-Resident Conservation Surcharges | C10: ='Compiled Angling Sales Report'!D111 -> 15489 | D10: ='Compiled Angling Sales Report'!E111 -> 17583 | E10: ='Compiled Angling Sales Report'!F111 -> 16685 | F10: ='Compiled Angling Sales Report'!G111 -> 17750 | G10: ='Compiled Angling Sales Report'!H111 -> 21994 | H10: ='Compiled Angling Sales Report'!I111 -> 19619 | I10: ='Compiled Angling Sales Report'!J111 -> 19233 | J10: ='Compiled Angling Sales Report'!K111 -> 19107 | ... Q10: ='Compiled Angling Sales Report'!R111 -> 17169
B11: Non-Resident Transactions | C11: ='Compiled Angling Sales Report'!D112 -> 105641 | D11: ='Compiled Angling Sales Report'!E112 -> 109143 | E11: ='Compiled Angling Sales Report'!F112 -> 108141 | F11: ='Compiled Angling Sales Report'!G112 -> 115860 | G11: ='Compiled Angling Sales Report'!H112 -> 126545 | H11: ='Compiled Angling Sales Report'!I112 -> 128686 | I11: ='Compiled Angling Sales Report'!J112 -> 135475 | J11: ='Compiled Angling Sales Report'!K112 -> 127714 | ... Q11: ='Compiled Angling Sales Report'!R112 -> 117245
A12: ALL | B12: Total Transactions | C12: ='Compiled Angling Sales Report'!D113 -> 505306 | D12: ='Compiled Angling Sales Report'!E113 -> 496456 | E12: ='Compiled Angling Sales Report'!F113 -> 486353 | F12: ='Compiled Angling Sales Report'!G113 -> 511947 | G12: ='Compiled Angling Sales Report'!H113 -> 565363 | H12: ='Compiled Angling Sales Report'!I113 -> 526957 | I12: ='Compiled Angling Sales Report'!J113 -> 539248 | J12: ='Compiled Angling Sales Report'!K113 -> 509751 | ... Q12: ='Compiled Angling Sales Report'!R113 -> 525390

Sheet Data Notes
A1: Data Notes
A3: Notes
A4: Date source: E-Licencing data from Corral database
A5: Non-resident licence statistics include Canadian Residents (outside BC) and Non-Residents (outside Canada)
A6: Non-resident Classified Waters statistics are number of Days Sold rather than Licence Sales
